BEGIN:VCALENDAR
VERSION:2.0
PRODID:-//Folkmusikens hus - ECPv6.15.17.1//NONSGML v1.0//EN
CALSCALE:GREGORIAN
METHOD:PUBLISH
X-ORIGINAL-URL:https://folkmusikenshus.se
X-WR-CALDESC:Händelser för Folkmusikens hus
REFRESH-INTERVAL;VALUE=DURATION:PT1H
X-Robots-Tag:noindex
X-PUBLISHED-TTL:PT1H
BEGIN:VTIMEZONE
TZID:Europe/Stockholm
BEGIN:DAYLIGHT
TZOFFSETFROM:+0100
TZOFFSETTO:+0200
TZNAME:CEST
DTSTART:20250330T010000
END:DAYLIGHT
BEGIN:STANDARD
TZOFFSETFROM:+0200
TZOFFSETTO:+0100
TZNAME:CET
DTSTART:20251026T010000
END:STANDARD
BEGIN:DAYLIGHT
TZOFFSETFROM:+0100
TZOFFSETTO:+0200
TZNAME:CEST
DTSTART:20260329T010000
END:DAYLIGHT
BEGIN:STANDARD
TZOFFSETFROM:+0200
TZOFFSETTO:+0100
TZNAME:CET
DTSTART:20261025T010000
END:STANDARD
BEGIN:DAYLIGHT
TZOFFSETFROM:+0100
TZOFFSETTO:+0200
TZNAME:CEST
DTSTART:20270328T010000
END:DAYLIGHT
BEGIN:STANDARD
TZOFFSETFROM:+0200
TZOFFSETTO:+0100
TZNAME:CET
DTSTART:20271031T010000
END:STANDARD
END:VTIMEZONE
BEGIN:VEVENT
DTSTART;TZID=Europe/Stockholm:20260630T170000
DTEND;TZID=Europe/Stockholm:20260630T183000
DTSTAMP:20260422T105620
CREATED:20260331T230003Z
LAST-MODIFIED:20260331T074448Z
UID:10000186-1782838800-1782844200@folkmusikenshus.se
SUMMARY:Rättviks spelmanslags sommarkonsert
DESCRIPTION:Årets sommarkonsert med Rättviks spelmanslag handlar om Lerdal-Gärdebyn och spelmännen därifrån. I dessa byar kan man säga att lagets vagga stod. På ett dans och spelcafe i Långbacken bildades laget för första gången hösten 1943 av spelmän från de södra byarna. Ingen riktig verksamhet kom dock igång\, utan laget startades ånyo året efter på en stämma i Rättviksparken då en styrelse bildades. \n\nBland de spelmän vi lyfter fram i årets konsert finns Börjes Olle\, Elg Anders\, Anders Forsman\, Erik Nordqvist\, Perols Gudmund och Fyhr Olle. \nEntré 250 kr\, betalas på plats. \n\n\nKonserten arrangeras av Rättviks spelmanslag och är ett evenemang under Stämmoveckan.
URL:https://folkmusikenshus.se/event/rattviks-spelmanslags-sommarkonsert/
LOCATION:Rättviks kyrka\, Kyrkvägen 11\, Rättvik\, 795 32
CATEGORIES:Stämmoveckan
ATTACH;FMTTYPE=image/jpeg:https://folkmusikenshus.se/folkmhus/wp-content/uploads/2026/03/rattviks_spllag.jpg
END:VEVENT
BEGIN:VEVENT
DTSTART;TZID=Europe/Stockholm:20260702T150000
DTEND;TZID=Europe/Stockholm:20260702T160000
DTSTAMP:20260422T105620
CREATED:20260331T230023Z
LAST-MODIFIED:20260401T134746Z
UID:10000150-1783004400-1783008000@folkmusikenshus.se
SUMMARY:Systerpolskan och Fredrik Hangasjärvi
DESCRIPTION:Systerpolskan och Fredrik Hangasjärvi – Folkmusik\, visor och färgstarka berättelser\nSysterpolskan och den norrbottniske dragspelaren Fredrik Hangasjärvi har sammanstrålat och skapat en folkmusikkonsert med låtar och visor från Uppland\, Dalarna och Tornedalen. Här möts fem riksspelmän som bjuder på en mix av traditionella låtar och egna kompositioner. Låtarna inramas av visor både på svenska\, älvdalska och meänkieli\, tillsammans med färgstarka berättelser. \nSysterpolskan bildades när Benny Andersson bjöd in dem till sin studio 2015. Ljuv musik uppstod och resulterade i det kritikerrosade albumet Randig kjortel. Gruppen framträdde i Allsång på Skansen 2016 och 2018 och har spelat på olika scener runt om i Sverige efter skivdebuten. \nFredrik Hangasjärvi från Kivijärvi i Tornedalen är en dragspelsvirtuos som korsar gränser och spelar musik från många olika genrer. Åren 2015–2016 medverkade han i SVT:s produktion Bastubaletten och han har spelat i en mängd olika grupper\, bl a i kultbandet Raj-Raj Band och Fredrik Hangasjärvis Orkester. \n\nMedverkande: \nTäpp Ida Almlöf\nFiol och sång \n\n\nVerf Lena Egardt\nFiol och sång \n\n\nCajsa Ekstav\nNyckelharpa och sång \n\n\nErika Lindgren Liljenstolpe\nFiol och sång \n\n\nFredrik Hangasjärvi\nDragspel\, durspel och sång \nKonserten arrangeras av Folkmusikens hus och är en del av Stämmoveckan.
URL:https://folkmusikenshus.se/event/systerpolskan-och-fredrik-hangasjarvi/
LOCATION:Rättviks kyrka\, Kyrkvägen 11\, Rättvik\, 795 32
CATEGORIES:Stämmoveckan
ATTACH;FMTTYPE=image/jpeg:https://folkmusikenshus.se/folkmhus/wp-content/uploads/2026/03/systerp.jpg
END:VEVENT
END:VCALENDAR