BEGIN:VCALENDAR
VERSION:2.0
PRODID:-//Folkmusikens hus - ECPv6.15.17.1//NONSGML v1.0//EN
CALSCALE:GREGORIAN
METHOD:PUBLISH
X-ORIGINAL-URL:https://folkmusikenshus.se
X-WR-CALDESC:Händelser för Folkmusikens hus
REFRESH-INTERVAL;VALUE=DURATION:PT1H
X-Robots-Tag:noindex
X-PUBLISHED-TTL:PT1H
BEGIN:VTIMEZONE
TZID:Europe/Stockholm
BEGIN:DAYLIGHT
TZOFFSETFROM:+0100
TZOFFSETTO:+0200
TZNAME:CEST
DTSTART:20250330T010000
END:DAYLIGHT
BEGIN:STANDARD
TZOFFSETFROM:+0200
TZOFFSETTO:+0100
TZNAME:CET
DTSTART:20251026T010000
END:STANDARD
BEGIN:DAYLIGHT
TZOFFSETFROM:+0100
TZOFFSETTO:+0200
TZNAME:CEST
DTSTART:20260329T010000
END:DAYLIGHT
BEGIN:STANDARD
TZOFFSETFROM:+0200
TZOFFSETTO:+0100
TZNAME:CET
DTSTART:20261025T010000
END:STANDARD
BEGIN:DAYLIGHT
TZOFFSETFROM:+0100
TZOFFSETTO:+0200
TZNAME:CEST
DTSTART:20270328T010000
END:DAYLIGHT
BEGIN:STANDARD
TZOFFSETFROM:+0200
TZOFFSETTO:+0100
TZNAME:CET
DTSTART:20271031T010000
END:STANDARD
END:VTIMEZONE
BEGIN:VEVENT
DTSTART;TZID=Europe/Stockholm:20260506T190000
DTEND;TZID=Europe/Stockholm:20260506T210000
DTSTAMP:20260422T130925
CREATED:20260116T092048Z
LAST-MODIFIED:20260330T192708Z
UID:10000116-1778094000-1778101200@folkmusikenshus.se
SUMMARY:Dallahan
DESCRIPTION:Sprungna ur Skottlands och Irlands traditionsmusik tar Dallahan med sina lyssnare på en musikalisk resa. I en bländande liveshow där flera stilar och influenser från olika delar av världen förs samman har bandet skapat sitt eget unika varumärke av världsmusik på en hög nivå med en fantastisk virtuositet. Bandet bestående av Jack Badcock på gitarr och sång\, Ciaran Ryan på banjo\, mandolin och fiol\, Andrew Waite på dragspel och Benedict Morris på fiol har sedan starten 2014 turnerat med sin liveshow i 23 länder världen över\, fått tre nomineringar för “Folk Band of The Year” 2016\, 2019 och 2022 samt gjort framträdande på flera stora scener och festivaler som Milwaukee Irish Fest (USA)\, Celtic Connections (SCO)\, Tonder Festival (DK)\, Festival Dranouter (BE)\, Woodford Folk Festival (AUS) med flera. \nEfter ett decennium tillsammans som band har Dallahan blivit ett väletablerat band på folk- och världsmusikscenen som för varje album fortsätter att utveckla sitt sound\, vilket framgår tydligt på deras senaste studioalbum “Speak of the Devil” som släpptes i juni 2023. Nu tar bandet sin liveshow till Sverige för första gången under maj 2026. \nBiljetter \nArrangeras av Wasabryggeriets vänner i samarbete med Folkmusikens hus och studieförbundet Bilda.
URL:https://folkmusikenshus.se/event/dallahan/
LOCATION:Wasabryggeriet\, Borlänge\, Sveagränd 1\, Borlänge\, 78433\, Sweden
CATEGORIES:Konsert
ATTACH;FMTTYPE=image/jpeg:https://folkmusikenshus.se/folkmhus/wp-content/uploads/2026/01/Bild-5-e1768555594163.jpeg
END:VEVENT
BEGIN:VEVENT
DTSTART;VALUE=DATE:20260508
DTEND;VALUE=DATE:20260510
DTSTAMP:20260422T130925
CREATED:20260213T131740Z
LAST-MODIFIED:20260313T080328Z
UID:10000119-1778198400-1778371199@folkmusikenshus.se
SUMMARY:TRAD i MALUNG
DESCRIPTION:TRADiMALUNG är folkmusikfestivalen som vill hylla det akustiska solospelet till dans med gungande dansgolv\, intima konserter\, workshops och jam. \nÅrets artister\nFredag: Magdalena Eriksson\, Jeanette Rousu och Pelle Björnlert\nLördag: Karin Wallin  Ann-Sofi Nilsson\, Ånon Egeland och Malungs spelmanslag \nDärtill finns både Malungs Folkhögskolas\, Folkmusikens Hus och Sunne Danshus medarbetare på plats för att ge både konserter och workshops. Bl a Adrian Jones\, Anna Öberg\, Brita Ström\, Jonas Brandin\, Jon Holmén\, John Goodacre samt Martin och Lotta Eneling. \nVälkommen till Malungs folkhögskola 8-9 maj! \nLäs mer här.
URL:https://folkmusikenshus.se/event/trad-i-malung-2/
LOCATION:Malungs Folkögskola\, Thorolfsvägen 44\, Malung\, 78234\, Sweden
CATEGORIES:Dans,Konsert,Kurs,Spelmansstämma
ATTACH;FMTTYPE=image/jpeg:https://folkmusikenshus.se/folkmhus/wp-content/uploads/2026/02/Trad-i-Malung-16-9.jpg
END:VEVENT
BEGIN:VEVENT
DTSTART;TZID=Europe/Stockholm:20260510T093000
DTEND;TZID=Europe/Stockholm:20260510T190000
DTSTAMP:20260422T130925
CREATED:20260409T131152Z
LAST-MODIFIED:20260417T092225Z
UID:10000191-1778405400-1778439600@folkmusikenshus.se
SUMMARY:Söndagsdans och danskurs
DESCRIPTION:Ja tänk\, den efterlängtade söndagsdansen är tillbaka! \nDu väljer om du vill vara med hela dagen eller kommer och dansar på kvällen. \nUnder mars och april har Hörkens Bygdedansare gjort en liten dansturné bland Dalarnas folkdanslag. De har lärt ut de olika polskor och bygdedanser (främst från Dalarna) som folkdanslagen önskat. Nu samlas dessa danser och repeteras under en hel dag i Rättvik på Folkmusikens Hus. Kursen kommer självklart att ske på grundnivå även denna gång så att alla kan delta. \nProgram: \n9.30 Samling\, fikabuffé (50 kr) och registrering \n10.00-12.00 Kurs \n12.00-13.30 Lunch (ordnar man själv\, möjlighet att värma finns) \n13.30-16.00 Kurs \n16.00-17.00 Fikabuffé och smörgås (50 kr) finns för både kursdeltagare och nytillkomna. \n17.00-19.00 Danskväll till Rättviks spelmanslag. Hela laget spelar till dans men också i lite mindre grupper bl a med spelledaren Täpp Ida Almlöf. Passa på att friska upp ditt dansande inför Stämmoveckans alla bystugedanser! \nMedlemmar i Folkdansringen Dalarna går gratis på kursen och övriga betalar 250kr via swish på plats. \nEndast danskvällen kostar 80 kr och betalas på plats. \nFör att vi ska kunna beräkna fikat under dagen behöver vi din anmälan med namn och e-post\, senast den 4/5 till Susanne Björck (susanne.bjorck@live.se) eller Britt-Mari D Westholm (brittmari.westholm@gmail.com) från Hörkens Bygdedansare. \nVarmt välkomna till en fin söndag i Rättvik! \nArrangeras av Hörkens Bygdedansare och Folkmusikens hus i samarbete med studieförbundet Bilda.
URL:https://folkmusikenshus.se/event/sondagsdans/
LOCATION:Folkmusikens hus\, Rättvik\, Dalagatan 7\, Rättvik\, Sweden
ATTACH;FMTTYPE=image/jpeg:https://folkmusikenshus.se/folkmhus/wp-content/uploads/2026/04/IMG_7554-scaled-e1776332935811.jpg
END:VEVENT
END:VCALENDAR