BEGIN:VCALENDAR
VERSION:2.0
PRODID:-//Folkmusikens hus - ECPv6.15.17.1//NONSGML v1.0//EN
CALSCALE:GREGORIAN
METHOD:PUBLISH
X-ORIGINAL-URL:https://folkmusikenshus.se
X-WR-CALDESC:Händelser för Folkmusikens hus
REFRESH-INTERVAL;VALUE=DURATION:PT1H
X-Robots-Tag:noindex
X-PUBLISHED-TTL:PT1H
BEGIN:VTIMEZONE
TZID:Europe/Stockholm
BEGIN:DAYLIGHT
TZOFFSETFROM:+0100
TZOFFSETTO:+0200
TZNAME:CEST
DTSTART:20250330T010000
END:DAYLIGHT
BEGIN:STANDARD
TZOFFSETFROM:+0200
TZOFFSETTO:+0100
TZNAME:CET
DTSTART:20251026T010000
END:STANDARD
BEGIN:DAYLIGHT
TZOFFSETFROM:+0100
TZOFFSETTO:+0200
TZNAME:CEST
DTSTART:20260329T010000
END:DAYLIGHT
BEGIN:STANDARD
TZOFFSETFROM:+0200
TZOFFSETTO:+0100
TZNAME:CET
DTSTART:20261025T010000
END:STANDARD
BEGIN:DAYLIGHT
TZOFFSETFROM:+0100
TZOFFSETTO:+0200
TZNAME:CEST
DTSTART:20270328T010000
END:DAYLIGHT
BEGIN:STANDARD
TZOFFSETFROM:+0200
TZOFFSETTO:+0100
TZNAME:CET
DTSTART:20271031T010000
END:STANDARD
END:VTIMEZONE
BEGIN:VEVENT
DTSTART;VALUE=DATE:20260731
DTEND;VALUE=DATE:20260802
DTSTAMP:20260423T000624
CREATED:20260416T122322Z
LAST-MODIFIED:20260416T122322Z
UID:10000192-1785456000-1785628799@folkmusikenshus.se
SUMMARY:Folkmusikfesten i Stjärnsund
DESCRIPTION:Vi kan även i år se fram emot en fullmatad helg med spel\, sång och dans\, fredagen den 31 juli och lördagen den 1 augusti. Välkommen till  den 21:a Folkmusikfesten i Stjärnsund. \nDet blir heldagskurser i spel och sång under fredagen\, följt av en kvällskonsert i kyrkan\, dans och spelmansjam på Fridhem och spelmanspub på Café Bistro. Lördagen inleds på morgonen med magisk vallmusik vid Björktjärn\, fortsätter med kortkurser på förmiddagen\, familjeföreställning med mera på eftermiddagen och så spelmansstämman med allspel\, buskspel och dans på kvällen. Stämman pågår fram till midnatt\, då musikfesten avslutas med en stämningsfull godnattmusik i kyrkan. \nVäl värt ett besök\, för alla som vill spela\, dansa eller bara lyssna till massor av fantastisk musik. Så passa på att boka in de här båda dagarna redan nu\, så att inget ovidkommande hindrar dig från att få del av detta! \nKurser: \nFredag 31 juli – Låtkurs med Lisa Rydberg och sångworkshop med Trio Myr.\nLördag 1 augusti – Munspelskurs för nybörjare med Karin Kåks och låtkurs med Annika Hed Ekman och Göran Hed. \nFör fullständigt program och anmälan klickar du här  \nArrangeras av föreningen Folkmusikfesten i Stjärnsund i samarbete med Folkmusikens hus och studieförbundet Bilda.
URL:https://folkmusikenshus.se/event/folkmusikfesten-i-stjarnsund-2/
LOCATION:Stjärnsunds herrgård\, Annalisa Forssbergers väg 9\, Stjärnsund\, Sweden
CATEGORIES:Konsert,Kurs,Spelmansstämma
ATTACH;FMTTYPE=image/gif:https://folkmusikenshus.se/folkmhus/wp-content/uploads/2025/05/FMF-Stjs-2025-logga-m-text-e1747135885601.gif
END:VEVENT
END:VCALENDAR