BEGIN:VCALENDAR
VERSION:2.0
PRODID:-//Folkmusikens hus - ECPv6.15.17.1//NONSGML v1.0//EN
CALSCALE:GREGORIAN
METHOD:PUBLISH
X-WR-CALNAME:Folkmusikens hus
X-ORIGINAL-URL:https://folkmusikenshus.se
X-WR-CALDESC:Händelser för Folkmusikens hus
REFRESH-INTERVAL;VALUE=DURATION:PT1H
X-Robots-Tag:noindex
X-PUBLISHED-TTL:PT1H
BEGIN:VTIMEZONE
TZID:Europe/Stockholm
BEGIN:DAYLIGHT
TZOFFSETFROM:+0100
TZOFFSETTO:+0200
TZNAME:CEST
DTSTART:20250330T010000
END:DAYLIGHT
BEGIN:STANDARD
TZOFFSETFROM:+0200
TZOFFSETTO:+0100
TZNAME:CET
DTSTART:20251026T010000
END:STANDARD
BEGIN:DAYLIGHT
TZOFFSETFROM:+0100
TZOFFSETTO:+0200
TZNAME:CEST
DTSTART:20260329T010000
END:DAYLIGHT
BEGIN:STANDARD
TZOFFSETFROM:+0200
TZOFFSETTO:+0100
TZNAME:CET
DTSTART:20261025T010000
END:STANDARD
BEGIN:DAYLIGHT
TZOFFSETFROM:+0100
TZOFFSETTO:+0200
TZNAME:CEST
DTSTART:20270328T010000
END:DAYLIGHT
BEGIN:STANDARD
TZOFFSETFROM:+0200
TZOFFSETTO:+0100
TZNAME:CET
DTSTART:20271031T010000
END:STANDARD
END:VTIMEZONE
BEGIN:VEVENT
DTSTART;TZID=Europe/Stockholm:20260702T120000
DTEND;TZID=Europe/Stockholm:20260702T170000
DTSTAMP:20260422T190649
CREATED:20260331T230038Z
LAST-MODIFIED:20260401T134430Z
UID:10000165-1782993600-1783011600@folkmusikenshus.se
SUMMARY:Viskurs med Sofia Sandén
DESCRIPTION:Välkommen på viskurs med folksångerskan och Tibblebon Sofia Sandén. Här får du sjunga de folkvisor som Hugo Alfvén använde i sina\, genom tiderna\, så populära körstycken och som blivit en stor del i svensk körtradition. Med Sofia får du lära dig visorna i deras traditionella form med ett folksångsperspektiv\, både de mer kända men även mindre kända sånger som medeltida ballader\, danslekar och lyriska kärleksvisor. Utlärningen sker på gehör. \nKursen arrangeras av Alfvéngården och är ett program under Stämmoveckan.\n \n \n 
URL:https://folkmusikenshus.se/event/viskurs-med-sofia-sanden/
LOCATION:Alfvéngården\, Leksand\, Tibble Pipargattu 21\, Leksand\, 79336
CATEGORIES:Stämmoveckan
ATTACH;FMTTYPE=image/jpeg:https://folkmusikenshus.se/folkmhus/wp-content/uploads/2026/03/sofias.jpg
END:VEVENT
BEGIN:VEVENT
DTSTART;TZID=Europe/Stockholm:20260702T150000
DTEND;TZID=Europe/Stockholm:20260702T160000
DTSTAMP:20260422T190649
CREATED:20260331T230023Z
LAST-MODIFIED:20260401T134746Z
UID:10000150-1783004400-1783008000@folkmusikenshus.se
SUMMARY:Systerpolskan och Fredrik Hangasjärvi
DESCRIPTION:Systerpolskan och Fredrik Hangasjärvi – Folkmusik\, visor och färgstarka berättelser\nSysterpolskan och den norrbottniske dragspelaren Fredrik Hangasjärvi har sammanstrålat och skapat en folkmusikkonsert med låtar och visor från Uppland\, Dalarna och Tornedalen. Här möts fem riksspelmän som bjuder på en mix av traditionella låtar och egna kompositioner. Låtarna inramas av visor både på svenska\, älvdalska och meänkieli\, tillsammans med färgstarka berättelser. \nSysterpolskan bildades när Benny Andersson bjöd in dem till sin studio 2015. Ljuv musik uppstod och resulterade i det kritikerrosade albumet Randig kjortel. Gruppen framträdde i Allsång på Skansen 2016 och 2018 och har spelat på olika scener runt om i Sverige efter skivdebuten. \nFredrik Hangasjärvi från Kivijärvi i Tornedalen är en dragspelsvirtuos som korsar gränser och spelar musik från många olika genrer. Åren 2015–2016 medverkade han i SVT:s produktion Bastubaletten och han har spelat i en mängd olika grupper\, bl a i kultbandet Raj-Raj Band och Fredrik Hangasjärvis Orkester. \n\nMedverkande: \nTäpp Ida Almlöf\nFiol och sång \n\n\nVerf Lena Egardt\nFiol och sång \n\n\nCajsa Ekstav\nNyckelharpa och sång \n\n\nErika Lindgren Liljenstolpe\nFiol och sång \n\n\nFredrik Hangasjärvi\nDragspel\, durspel och sång \nKonserten arrangeras av Folkmusikens hus och är en del av Stämmoveckan.
URL:https://folkmusikenshus.se/event/systerpolskan-och-fredrik-hangasjarvi/
LOCATION:Rättviks kyrka\, Kyrkvägen 11\, Rättvik\, 795 32
CATEGORIES:Stämmoveckan
ATTACH;FMTTYPE=image/jpeg:https://folkmusikenshus.se/folkmhus/wp-content/uploads/2026/03/systerp.jpg
END:VEVENT
BEGIN:VEVENT
DTSTART;TZID=Europe/Stockholm:20260702T190000
DTEND;TZID=Europe/Stockholm:20260702T230000
DTSTAMP:20260422T190649
CREATED:20260331T230246Z
LAST-MODIFIED:20260331T045956Z
UID:10000177-1783018800-1783033200@folkmusikenshus.se
SUMMARY:Bystugedans i Lima med Skogsstiernan
DESCRIPTION:Dans och spelmansmöte med Skogsstiernan  \nSkogsstiernan bjuder in till dans och spelmansmöte i Lima bystuga i Leksand torsdagen 2 juli. Skogsstiernan är ett litet spelmanslag från Falun som bjuder på en varierad bukett av dansmusik från Dalarna med omgivande landskap och länder. Skogsstiernan har spelat i Lima bystuga sedan 2010.  \nI år medverkar även Värmlandsspelmännen Jakob Ainegren och Joel Andersson.  \nFörsäljning av kaffe\, smörgåsar och kaffebröd.  \nMöjlighet till övernattning med husbil\, husvagn eller tält på parkeringen vid bystugan.  \nEntré 150 kronor. Biljetter vid dörren från kl. 18.50  \n  \n\nBystugedansen arrangeras av Skogsstiernan och är ett evenemang under Stämmoveckan.
URL:https://folkmusikenshus.se/event/bystugedans-i-lima-med-skogsstiernan/
LOCATION:Lima bystuga\, Leksand\, Lima Largattu\, Leksand\, Dalarna\, 79332
CATEGORIES:Stämmoveckan
ATTACH;FMTTYPE=image/jpeg:https://folkmusikenshus.se/folkmhus/wp-content/uploads/2026/03/skogsstiernan.jpg
END:VEVENT
BEGIN:VEVENT
DTSTART;TZID=Europe/Stockholm:20260702T190000
DTEND;TZID=Europe/Stockholm:20260702T233000
DTSTAMP:20260422T190649
CREATED:20260331T230337Z
LAST-MODIFIED:20260330T162400Z
UID:10000169-1783018800-1783035000@folkmusikenshus.se
SUMMARY:Östbjörkastämman
DESCRIPTION:Välkommen till Östbjörkastämman – en varm och personlig spelmansstämma mitt i Stämmoveckans puls! Dagen efter Bingsjö samlas vi här för att fira det nära musikaliska samspelet\, där varje ton och varje spelmanspersonlighet får ta plats. Både i den trivsamma bystugan och bakom knuten skapas magiska möten! Och på scenen spelas det till dans — intimt\, nära och innerligt — samtidigt som utedansbanan öppnar för oväntade eruptioner av spelglädje. \nFörvänta dig en kavalkad av utmärkta dansspelmän från när och fjärran\, spontana buskspel\, generösa jam och musik för både dans inomhus och under bar himmel. Ta med tältet — naturcamping finns i direkt anslutning — och njut av gemenskapen och musiken natten lång. Under hela stämman håller Östbjörka bystuguförening serveringen öppen med både matigare alternativ och gofika. \nKom som du är – för att lyssna\, dansa\, spela eller möta andra som älskar folkmusik! Välkommen till en kväll där musiken får tala och glädjen får spela fritt! \nÖstbjörka — spelmännens hemvist\nBygdens främsta identitet är dess rika spelmanstradition\, med historiska namn som Påhl Olle\, Göras Anders\, Pers Erik\, Pers Hans och Gatu Mats. Än i dag bor och verkar kända spelmän här — bland andra Göras Leif\, Anders Bjernulf och Gatu Olle — vilket gör byn till en levande musikmiljö. Sommartid förstärks traditionen av musikframträdanden i Matsgården under Stämmoveckan\, där bygdens spelmän regelbundet uppträder. \n 
URL:https://folkmusikenshus.se/event/ostbjorkastamman/
LOCATION:Östbjörka bystuga\, Rättvik\, Bystugevägen 5\, Rättvik\, Dalarna\, 795 91
CATEGORIES:Spelmansstämma
ATTACH;FMTTYPE=image/jpeg:https://folkmusikenshus.se/folkmhus/wp-content/uploads/2026/03/ostbjorkastamman.jpg
END:VEVENT
BEGIN:VEVENT
DTSTART;TZID=Europe/Stockholm:20260702T193000
DTEND;TZID=Europe/Stockholm:20260702T213000
DTSTAMP:20260422T190649
CREATED:20260331T230209Z
LAST-MODIFIED:20260401T134958Z
UID:10000151-1783020600-1783027800@folkmusikenshus.se
SUMMARY:Ethnokonsert på parken - världens musik i Rättvik
DESCRIPTION:Det brukar bli en närmast magiskt konsert när Ethno gör sin avslutningskonsert i Rättviksparken. I år är inget undantag! \nUppemot hundra unga folkmusikanter från Europa\, Afrika\, Asien och Amerika kommer till Rättvik för att under nio intensiva dagar lära varandra låtar\, vidga sina vyer musikaliskt och medmänskligt och förstås skaffa sig vänner för livet. Ethno har sedan starten i Falun 1990 spridit sig över världen – idag finns drygt 40 Ethno i fem världsdelar! \nVi lovar en spelglädje som smittar\, en lyckokick som får dig att dansa hemåt i sommarkvällen i en mystisk sjutakt\, sjungandes på ett okänt språk. Jorden runt på två hänförande\, lyckliga och helt unika timmar! \nEthno och Ethnokonserten arrangeras av Folkmusikens hus och Kungl. Musikaliska Akademien i samarbete med studieförbundet Bilda\, Region Gävleborg\, Dalarnas Spelmansförbund och Sveriges Spelmäns Riksförbund. Med stöd från 12 av Dalarnas kommuner samt Region Dalarna. Evenemanget är en del av Stämmoveckan. \n \n 
URL:https://folkmusikenshus.se/event/ethno-varldens-musik/
LOCATION:Rättviksparken\, Furudalsvägen 1\, Rättvik\, Sweden\, 795 32
CATEGORIES:Stämmoveckan
ATTACH;FMTTYPE=image/jpeg:https://folkmusikenshus.se/folkmhus/wp-content/uploads/2026/03/ethno.jpg
END:VEVENT
BEGIN:VEVENT
DTSTART;TZID=Europe/Stockholm:20260703T130000
DTEND;TZID=Europe/Stockholm:20260703T140000
DTSTAMP:20260422T190649
CREATED:20260331T230155Z
LAST-MODIFIED:20260408T152906Z
UID:10000157-1783083600-1783087200@folkmusikenshus.se
SUMMARY:Konsert med Perssläktens låtskatt
DESCRIPTION:Upptäck en musikalisk skatt från Östbjörka — en konsert med spelglädje\, tradition och nytolkning. \nVälkommen till en unik konsertupplevelse där vi hyllar Perssläktens rika låtskatt: kompositioner och melodier skapade och spelade av Pers Olof Andersson\, Pers Erik Olsson\, Pers Hans Olsson och Pers Alexander Cederquist Olsson. Dessa toner\, rotade i spelmanstraditionen från Östbjörka\, bär på historier\, dansstämning och känslolägen som nu får nytt liv i vår gestaltning. \nNi får möta en grupp spelmän som kommer att framföra ett urval från denna rika låtskatt. På scenen står: \n\nPers Alexander Cederquist Olsson — fiol\nPers Yvonne Cederquist Olsson — fiol\nMaud Norman — fiol\nÅsa Jareholm — kontrabas\n\n  \nKonserten spelas i en genuin bymiljö som bidrar till den historiska känslan i denna konsert. \nKonserten arrangeras av Folkmusikens hus och är en del av Stämmoveckan.
URL:https://folkmusikenshus.se/event/latar-fran-persslakten-i-ostbjorka/
LOCATION:Matsgården\, Östbjörka\, Östbjörka Matsgatu 10\, Rättvik\, 795 91
CATEGORIES:Stämmoveckan
ATTACH;FMTTYPE=image/jpeg:https://folkmusikenshus.se/folkmhus/wp-content/uploads/2026/04/ostbjorka.jpg
END:VEVENT
BEGIN:VEVENT
DTSTART;TZID=Europe/Stockholm:20260704T130000
DTEND;TZID=Europe/Stockholm:20260704T140000
DTSTAMP:20260422T190649
CREATED:20260331T230502Z
LAST-MODIFIED:20260327T104002Z
UID:10000147-1783170000-1783173600@folkmusikenshus.se
SUMMARY:Lisa Rydberg
DESCRIPTION:Lisa Rydberg – Riksspelman och barockviolinist \n\n\nLisa omfamnade fiolen i femårsåldern och från första stund levde folkmusiken sida vid sida med den klassiska musiken. \n\n\nHennes studier vid Musikhögskolan vittnar om sökandet efter ett uttryck bortom genregränserna; ett år på den klassiska Musikerutbildningen ledde henne så småningom vidare till en examen i Individuell studiegång – hon blev den första någonsin i Sverige att studera en kombination av klassiskt och folkmusik – och därefter ett Diplom på barockfiol. \n\n\nLisa är numera frilansande musiker med ett brett register. Hon är medlem i många olika konstellationer; bl.a. duon Bach på svenska\, Jul I folkton\, improvisationsgruppen Ritualia\, duon Lisas och Sofia Karlsson band. Hon figurerar också i flera mindre barockensembler\, lägger stråk på popalbum samt komponerar musik. \n\n\nLisa har utgivit fem skivor i eget namn: ”Swedish Wedding Tunes”\, ”Vinterskrud”\, ”Östbjörka” och – tillsammans med Idenstam – ”Bach på svenska” samt ”Bach på svenska – Tyska klockorna”. \n\n\nÅr 1999 blev Lisa Riksspelman och hon har även tilldelats Pekkos Gustafs hederspris och Spel Stinas medalj. \n\nSocietespaviljongen i Rättvik är ett kulturminne som ligger strax innan utloppet i Siljan. Paviljongen är det enda som finns kvar av ett större kulturcentrum\, gästgiveri som inrättades vid 1700-talets mitt. Den är byggd i form av en åttasiding med 18 alnars diameter (cirka 10\,7 meter). Den är försedd med 7 fönster i gotisk stil och invändigt dekorerad av den kände kyrkomålaren Olof Hofrén. \nSocietetspaviljongen ligger mitt emot Rättviks kulturhus\, gå över bron så ligger det på vänster sida.\nI paviljongen finns begränsat antal platser. Boka därför din plats med en gång! \nKonserten arrangeras av Folkmusikens hus och är en del av Stämmoveckan. \n \n 
URL:https://folkmusikenshus.se/event/lisa-rydberg/
LOCATION:Societetspaviljongen\, Rättvik\, Hvilan 1\, Rättvik\, 795 30
CATEGORIES:Stämmoveckan
ATTACH;FMTTYPE=image/jpeg:https://folkmusikenshus.se/folkmhus/wp-content/uploads/2026/03/lisa.jpg
END:VEVENT
BEGIN:VEVENT
DTSTART;TZID=Europe/Stockholm:20260704T130000
DTEND;TZID=Europe/Stockholm:20260704T150000
DTSTAMP:20260422T190649
CREATED:20260331T230931Z
LAST-MODIFIED:20260401T135518Z
UID:10000162-1783170000-1783177200@folkmusikenshus.se
SUMMARY:Alfvéndagen
DESCRIPTION:Välkommen till en musikalisk hyllning i Alfvéns trädgård. Alfvéndagen är dagen när vi hyllar Hugo Alfvén med magiskt låtspel med Alm Nils Ersson\, Per Gudmundson\, Kungs Levi Nilsson och Tommy Gjers\, klassiska toner med Malvakvartetten och annan fin musik. Dessutom stipendie- och medaljutdelningar. \nDagen arrangeras av Alfvéngården och är ett evenemang under Stämmoveckan.
URL:https://folkmusikenshus.se/event/alfvendagen-2026/
LOCATION:Alfvéngården\, Leksand\, Tibble Pipargattu 21\, Leksand\, 79336
CATEGORIES:Stämmoveckan
ATTACH;FMTTYPE=image/jpeg:https://folkmusikenshus.se/folkmhus/wp-content/uploads/2026/03/alfvendagen.jpg
END:VEVENT
BEGIN:VEVENT
DTSTART;TZID=Europe/Stockholm:20260704T183000
DTEND;TZID=Europe/Stockholm:20260704T235900
DTSTAMP:20260422T190649
CREATED:20260331T230009Z
LAST-MODIFIED:20260401T135614Z
UID:10000183-1783189800-1783209540@folkmusikenshus.se
SUMMARY:Bystugedans i Nedre Gärdsjö med Malungs spelmanslag
DESCRIPTION:Välkommen till Nedre Gärdsjö bystuga och Stämmoveckans näst sista danskväll. Här får du chansen att dansa till Malungs spelmanslag\, precis som vanligt\, säger den som varit här förr.  \n\nkl 18.30–19.30 Kvällen börjar med dansinstruktion av Malungspolska\nkl 20.00-24.00 Malungs spelmanslag att spela till dans\n\n  \nHär finns också möjlighet till buskspel\, en öppen spellista på logen samt dans till gästande spelmän. \nEntré 150 kr\, betalas på plats\nFika: Tuttulbakning i bagarstugan\, servering av laxtuttul mm.\n \nBystugedansen arrangeras av Gärdsjö bystugeförening och är ett evenemang under Stämmoveckan.
URL:https://folkmusikenshus.se/event/bystugedans-i-nedre-gardsjo/
LOCATION:Nedre Gärdsjö bystuga\, Rättvik\, Nedre gärdsjö landsväg\, Rättvik\, Dalarna\, 79592
CATEGORIES:Stämmoveckan
ATTACH;FMTTYPE=image/jpeg:https://folkmusikenshus.se/folkmhus/wp-content/uploads/2026/03/malungsspelmanslag.jpg
END:VEVENT
BEGIN:VEVENT
DTSTART;TZID=Europe/Stockholm:20260705T080000
DTEND;TZID=Europe/Stockholm:20260705T170000
DTSTAMP:20260422T190649
CREATED:20260331T230013Z
LAST-MODIFIED:20260401T135752Z
UID:10000188-1783238400-1783270800@folkmusikenshus.se
SUMMARY:Delsbostämman
DESCRIPTION:För er som vill avsluta Stämmoveckan på ännu en stämma rekommenderar vi att ni tar vägarna förbi Delsbostämman!\nAlltid första helgen i juli\, 3-5 juli. Spelmansstämman är på söndagen på vackra Delsbo Forngård\, men både fredagen och lördagen bjuder på mycket musik och dans.\nProgrammet presenteras på Delsbostämmans hemsida. \nStämman arrangeras av föreningen Delsbostämman och är ett evenemang under Stämmoveckan.
URL:https://folkmusikenshus.se/event/delsbostamman/
LOCATION:Delsbo forngård\, Ås 106\, Delsbo\, Hälsingland\, 82474
CATEGORIES:Stämmoveckan
ATTACH;FMTTYPE=image/jpeg:https://folkmusikenshus.se/folkmhus/wp-content/uploads/2026/03/delsbo.jpg
END:VEVENT
BEGIN:VEVENT
DTSTART;TZID=Europe/Stockholm:20260705T130000
DTEND;TZID=Europe/Stockholm:20260705T160000
DTSTAMP:20260422T190649
CREATED:20260331T230237Z
LAST-MODIFIED:20260330T132704Z
UID:10000166-1783256400-1783267200@folkmusikenshus.se
SUMMARY:Spelmanscafé
DESCRIPTION:Välkommen till sommarens första spelmanscafé! Alfvéngården är en pärla vid Österdalälvens strand som du inte vill missa och under sommaren gör vi plats för alla spelmän i Carins café. Spelar du inte själv så kom och lyssna\, njut i trädgården eller ta en guidad tur på gården och lär dig mer om Hugo Alfvéns koppling till bygden och folktonerna. Alla spelmän bjuds på kaffe. \nSpelmanscaféet arrangeras av Alfvéngården och är ett program under Stämmoveckan. \n \n 
URL:https://folkmusikenshus.se/event/spelmanscafe/
LOCATION:Alfvéngården\, Leksand\, Tibble Pipargattu 21\, Leksand\, 79336
CATEGORIES:Stämmoveckan
ATTACH;FMTTYPE=image/jpeg:https://folkmusikenshus.se/folkmhus/wp-content/uploads/2026/03/spelmanscafe.jpg
END:VEVENT
BEGIN:VEVENT
DTSTART;TZID=Europe/Stockholm:20260705T200000
DTEND;TZID=Europe/Stockholm:20260705T230000
DTSTAMP:20260422T190649
CREATED:20260331T230102Z
LAST-MODIFIED:20260401T084107Z
UID:10000178-1783281600-1783292400@folkmusikenshus.se
SUMMARY:Bystugedans i Röjeråsen med Rättviks spelmanslag
DESCRIPTION:Stämmoveckans Grand Finale är bystugedansen i Röjeråsen med Rättviks spelmanslag. Sista chansen för denna Stämmovecka att få en dos med Rättvikspolskor innan det är dags att fara vidare i landet. Kanske missade du Rättviks spelmanslag tidigare i veckan eller så vill du passa på att höra dem igen! Oavsett vilket – Kom och dansa\, lyssna eller ta en fika. \nRättviks spelmanslag är ett av landets äldsta spelmanslag och har ca 100 medlemmar varav hälften är aktiva. Redan vid starten fastslogs ett av kraven för medlemskap i laget till att man ”ska ha viljan och behov av att spela folkmusik”. Det har laget\, liksom lusten att spela till dans. Laget leds av Täpp Ida Almlöf och Hans Ehrling. \nKl 20:00 – 23:00 Rättviks Spelmanslag\nEntré: 150 kr betalas på plats.\nFikaförsäljning i pausen.\nStällplats för husvagn och – bil. Dusch finns i bystugan. \nBystugedansen arrangeras av Vikarbyns byaförening och är ett evenemang under Stämmoveckan.
URL:https://folkmusikenshus.se/event/bystugedans-i-rojerasen-med-rattviks-spelmanslag/
LOCATION:Röjeråsens bystuga\, Rättvik\, Östar Röjeråsvägen\, Röjeråsen\, Dalarna\, 79595
CATEGORIES:Stämmoveckan
ATTACH;FMTTYPE=image/jpeg:https://folkmusikenshus.se/folkmhus/wp-content/uploads/2026/03/rattviks_spllag.jpg
END:VEVENT
BEGIN:VEVENT
DTSTART;VALUE=DATE:20260731
DTEND;VALUE=DATE:20260802
DTSTAMP:20260422T190649
CREATED:20260416T122322Z
LAST-MODIFIED:20260416T122322Z
UID:10000192-1785456000-1785628799@folkmusikenshus.se
SUMMARY:Folkmusikfesten i Stjärnsund
DESCRIPTION:Vi kan även i år se fram emot en fullmatad helg med spel\, sång och dans\, fredagen den 31 juli och lördagen den 1 augusti. Välkommen till  den 21:a Folkmusikfesten i Stjärnsund. \nDet blir heldagskurser i spel och sång under fredagen\, följt av en kvällskonsert i kyrkan\, dans och spelmansjam på Fridhem och spelmanspub på Café Bistro. Lördagen inleds på morgonen med magisk vallmusik vid Björktjärn\, fortsätter med kortkurser på förmiddagen\, familjeföreställning med mera på eftermiddagen och så spelmansstämman med allspel\, buskspel och dans på kvällen. Stämman pågår fram till midnatt\, då musikfesten avslutas med en stämningsfull godnattmusik i kyrkan. \nVäl värt ett besök\, för alla som vill spela\, dansa eller bara lyssna till massor av fantastisk musik. Så passa på att boka in de här båda dagarna redan nu\, så att inget ovidkommande hindrar dig från att få del av detta! \nKurser: \nFredag 31 juli – Låtkurs med Lisa Rydberg och sångworkshop med Trio Myr.\nLördag 1 augusti – Munspelskurs för nybörjare med Karin Kåks och låtkurs med Annika Hed Ekman och Göran Hed. \nFör fullständigt program och anmälan klickar du här  \nArrangeras av föreningen Folkmusikfesten i Stjärnsund i samarbete med Folkmusikens hus och studieförbundet Bilda.
URL:https://folkmusikenshus.se/event/folkmusikfesten-i-stjarnsund-2/
LOCATION:Stjärnsunds herrgård\, Annalisa Forssbergers väg 9\, Stjärnsund\, Sweden
CATEGORIES:Konsert,Kurs,Spelmansstämma
ATTACH;FMTTYPE=image/gif:https://folkmusikenshus.se/folkmhus/wp-content/uploads/2025/05/FMF-Stjs-2025-logga-m-text-e1747135885601.gif
END:VEVENT
END:VCALENDAR