BEGIN:VCALENDAR
VERSION:2.0
PRODID:-//Folkmusikens hus - ECPv6.15.20//NONSGML v1.0//EN
CALSCALE:GREGORIAN
METHOD:PUBLISH
X-WR-CALNAME:Folkmusikens hus
X-ORIGINAL-URL:https://folkmusikenshus.se
X-WR-CALDESC:Händelser för Folkmusikens hus
REFRESH-INTERVAL;VALUE=DURATION:PT1H
X-Robots-Tag:noindex
X-PUBLISHED-TTL:PT1H
BEGIN:VTIMEZONE
TZID:Europe/Stockholm
BEGIN:DAYLIGHT
TZOFFSETFROM:+0100
TZOFFSETTO:+0200
TZNAME:CEST
DTSTART:20250330T010000
END:DAYLIGHT
BEGIN:STANDARD
TZOFFSETFROM:+0200
TZOFFSETTO:+0100
TZNAME:CET
DTSTART:20251026T010000
END:STANDARD
BEGIN:DAYLIGHT
TZOFFSETFROM:+0100
TZOFFSETTO:+0200
TZNAME:CEST
DTSTART:20260329T010000
END:DAYLIGHT
BEGIN:STANDARD
TZOFFSETFROM:+0200
TZOFFSETTO:+0100
TZNAME:CET
DTSTART:20261025T010000
END:STANDARD
BEGIN:DAYLIGHT
TZOFFSETFROM:+0100
TZOFFSETTO:+0200
TZNAME:CEST
DTSTART:20270328T010000
END:DAYLIGHT
BEGIN:STANDARD
TZOFFSETFROM:+0200
TZOFFSETTO:+0100
TZNAME:CET
DTSTART:20271031T010000
END:STANDARD
END:VTIMEZONE
BEGIN:VEVENT
DTSTART;TZID=Europe/Stockholm:20260704T130000
DTEND;TZID=Europe/Stockholm:20260704T140000
DTSTAMP:20260423T141143
CREATED:20260331T230502Z
LAST-MODIFIED:20260327T104002Z
UID:10000147-1783170000-1783173600@folkmusikenshus.se
SUMMARY:Lisa Rydberg
DESCRIPTION:Lisa Rydberg – Riksspelman och barockviolinist \n\n\nLisa omfamnade fiolen i femårsåldern och från första stund levde folkmusiken sida vid sida med den klassiska musiken. \n\n\nHennes studier vid Musikhögskolan vittnar om sökandet efter ett uttryck bortom genregränserna; ett år på den klassiska Musikerutbildningen ledde henne så småningom vidare till en examen i Individuell studiegång – hon blev den första någonsin i Sverige att studera en kombination av klassiskt och folkmusik – och därefter ett Diplom på barockfiol. \n\n\nLisa är numera frilansande musiker med ett brett register. Hon är medlem i många olika konstellationer; bl.a. duon Bach på svenska\, Jul I folkton\, improvisationsgruppen Ritualia\, duon Lisas och Sofia Karlsson band. Hon figurerar också i flera mindre barockensembler\, lägger stråk på popalbum samt komponerar musik. \n\n\nLisa har utgivit fem skivor i eget namn: ”Swedish Wedding Tunes”\, ”Vinterskrud”\, ”Östbjörka” och – tillsammans med Idenstam – ”Bach på svenska” samt ”Bach på svenska – Tyska klockorna”. \n\n\nÅr 1999 blev Lisa Riksspelman och hon har även tilldelats Pekkos Gustafs hederspris och Spel Stinas medalj. \n\nSocietespaviljongen i Rättvik är ett kulturminne som ligger strax innan utloppet i Siljan. Paviljongen är det enda som finns kvar av ett större kulturcentrum\, gästgiveri som inrättades vid 1700-talets mitt. Den är byggd i form av en åttasiding med 18 alnars diameter (cirka 10\,7 meter). Den är försedd med 7 fönster i gotisk stil och invändigt dekorerad av den kände kyrkomålaren Olof Hofrén. \nSocietetspaviljongen ligger mitt emot Rättviks kulturhus\, gå över bron så ligger det på vänster sida.\nI paviljongen finns begränsat antal platser. Boka därför din plats med en gång! \nKonserten arrangeras av Folkmusikens hus och är en del av Stämmoveckan. \n \n 
URL:https://folkmusikenshus.se/event/lisa-rydberg/
LOCATION:Societetspaviljongen\, Rättvik\, Hvilan 1\, Rättvik\, 795 30
CATEGORIES:Stämmoveckan
ATTACH;FMTTYPE=image/jpeg:https://folkmusikenshus.se/folkmhus/wp-content/uploads/2026/03/lisa.jpg
END:VEVENT
BEGIN:VEVENT
DTSTART;TZID=Europe/Stockholm:20260704T130000
DTEND;TZID=Europe/Stockholm:20260704T150000
DTSTAMP:20260423T141143
CREATED:20260331T230931Z
LAST-MODIFIED:20260401T135518Z
UID:10000162-1783170000-1783177200@folkmusikenshus.se
SUMMARY:Alfvéndagen
DESCRIPTION:Välkommen till en musikalisk hyllning i Alfvéns trädgård. Alfvéndagen är dagen när vi hyllar Hugo Alfvén med magiskt låtspel med Alm Nils Ersson\, Per Gudmundson\, Kungs Levi Nilsson och Tommy Gjers\, klassiska toner med Malvakvartetten och annan fin musik. Dessutom stipendie- och medaljutdelningar. \nDagen arrangeras av Alfvéngården och är ett evenemang under Stämmoveckan.
URL:https://folkmusikenshus.se/event/alfvendagen-2026/
LOCATION:Alfvéngården\, Leksand\, Tibble Pipargattu 21\, Leksand\, 79336
CATEGORIES:Stämmoveckan
ATTACH;FMTTYPE=image/jpeg:https://folkmusikenshus.se/folkmhus/wp-content/uploads/2026/03/alfvendagen.jpg
END:VEVENT
BEGIN:VEVENT
DTSTART;TZID=Europe/Stockholm:20260704T183000
DTEND;TZID=Europe/Stockholm:20260704T235900
DTSTAMP:20260423T141143
CREATED:20260331T230009Z
LAST-MODIFIED:20260401T135614Z
UID:10000183-1783189800-1783209540@folkmusikenshus.se
SUMMARY:Bystugedans i Nedre Gärdsjö med Malungs spelmanslag
DESCRIPTION:Välkommen till Nedre Gärdsjö bystuga och Stämmoveckans näst sista danskväll. Här får du chansen att dansa till Malungs spelmanslag\, precis som vanligt\, säger den som varit här förr.  \n\nkl 18.30–19.30 Kvällen börjar med dansinstruktion av Malungspolska\nkl 20.00-24.00 Malungs spelmanslag att spela till dans\n\n  \nHär finns också möjlighet till buskspel\, en öppen spellista på logen samt dans till gästande spelmän. \nEntré 150 kr\, betalas på plats\nFika: Tuttulbakning i bagarstugan\, servering av laxtuttul mm.\n \nBystugedansen arrangeras av Gärdsjö bystugeförening och är ett evenemang under Stämmoveckan.
URL:https://folkmusikenshus.se/event/bystugedans-i-nedre-gardsjo/
LOCATION:Nedre Gärdsjö bystuga\, Rättvik\, Nedre gärdsjö landsväg\, Rättvik\, Dalarna\, 79592
CATEGORIES:Stämmoveckan
ATTACH;FMTTYPE=image/jpeg:https://folkmusikenshus.se/folkmhus/wp-content/uploads/2026/03/malungsspelmanslag.jpg
END:VEVENT
END:VCALENDAR