BEGIN:VCALENDAR
VERSION:2.0
PRODID:-//Folkmusikens hus - ECPv6.15.20//NONSGML v1.0//EN
CALSCALE:GREGORIAN
METHOD:PUBLISH
X-WR-CALNAME:Folkmusikens hus
X-ORIGINAL-URL:https://folkmusikenshus.se
X-WR-CALDESC:Händelser för Folkmusikens hus
REFRESH-INTERVAL;VALUE=DURATION:PT1H
X-Robots-Tag:noindex
X-PUBLISHED-TTL:PT1H
BEGIN:VTIMEZONE
TZID:Europe/Stockholm
BEGIN:DAYLIGHT
TZOFFSETFROM:+0100
TZOFFSETTO:+0200
TZNAME:CEST
DTSTART:20250330T010000
END:DAYLIGHT
BEGIN:STANDARD
TZOFFSETFROM:+0200
TZOFFSETTO:+0100
TZNAME:CET
DTSTART:20251026T010000
END:STANDARD
BEGIN:DAYLIGHT
TZOFFSETFROM:+0100
TZOFFSETTO:+0200
TZNAME:CEST
DTSTART:20260329T010000
END:DAYLIGHT
BEGIN:STANDARD
TZOFFSETFROM:+0200
TZOFFSETTO:+0100
TZNAME:CET
DTSTART:20261025T010000
END:STANDARD
BEGIN:DAYLIGHT
TZOFFSETFROM:+0100
TZOFFSETTO:+0200
TZNAME:CEST
DTSTART:20270328T010000
END:DAYLIGHT
BEGIN:STANDARD
TZOFFSETFROM:+0200
TZOFFSETTO:+0100
TZNAME:CET
DTSTART:20271031T010000
END:STANDARD
END:VTIMEZONE
BEGIN:VEVENT
DTSTART;TZID=Europe/Stockholm:20260629T093000
DTEND;TZID=Europe/Stockholm:20260630T123000
DTSTAMP:20260423T141139
CREATED:20260331T231502Z
LAST-MODIFIED:20260402T071908Z
UID:10000087-1782725400-1782822600@folkmusikenshus.se
SUMMARY:Kurs i andrastämmor med Adrian Jones (fördjupning)
DESCRIPTION:Spela andrastämmor med Adrian Jones\, fördjupning på plats i Folkmusikens hus.\n”Hur blir man bra på att spela stämmor?” Den frågan har Adrian fått många gånger. Varje gång har han funderat över hur man egentligen bär sig åt. Kan man öva på det? Finns det konkreta verktyg? Kan man lära sig det av någon? Det är dags att dyka ner i stämspelets värld och prova några användbara tillvägagångssätt. \nKursen syftar till att vidareutveckla dina befintliga stämspelskunskaper\, din medvetenhet och relatera till tonalitet och musikalisk struktur. Det är en kurs i melodiskt stämspel och alla instrument är välkomna. Kursen innehåller analys av spelmansmusik\, tonalitetslära\, konkreta övningar och feedback från lärare och kurskamrater. Kursen ger verktyg för att ytterligare variera ditt stämspel och kombinera olika tekniker. Ambitionen är att skapa en avslappnad kreativ miljö full av nyfikenhet och experimentlusta. \nDenna kurs vänder sig till dig som har spelat ett tag och har god erfarenhet inom spelmansmusik och låtspel. Kursen är på fördjupningsnivå – du bör redan ha en grund inom stämspel. Du kanske redan spelar en hel del stämmor men vill ta steget vidare och utveckla samt variera ditt stämspel. Du kanske har gått Adrians grundkurs någon gång\, känner att färdigheterna börjar landa och det är dags för fler utmaningar. \nMåndag 29 juni 2026 kl 9:30-16:15 och tisdag 30 juni kl 9:30-12.30 under Stämmoveckan i Folkmusikens hus. \nKursen arrangeras av Folkmusikens hus och är ett evenemang i Stämmoveckan.
URL:https://folkmusikenshus.se/event/spela-andrastammor-med-adrian-jones-fordjupning/
LOCATION:Folkmusikens hus\, Rättvik\, Dalagatan 7\, Rättvik\, Sweden
CATEGORIES:Stämmoveckan
ATTACH;FMTTYPE=image/jpeg:https://folkmusikenshus.se/folkmhus/wp-content/uploads/2025/11/adrian.jpg
END:VEVENT
BEGIN:VEVENT
DTSTART;TZID=Europe/Stockholm:20260629T093000
DTEND;TZID=Europe/Stockholm:20260630T140000
DTSTAMP:20260423T141139
CREATED:20260331T231044Z
LAST-MODIFIED:20260401T131436Z
UID:10000146-1782725400-1782828000@folkmusikenshus.se
SUMMARY:Låtkurs med Ola Bäckström
DESCRIPTION:Låtkurs i Ore- och Bingsjöspel — stil\, uttryck och teknik.\nUpptäck kärnan i Dalarna\, en kurs för dig som vill fördjupa ditt spel i Ore- och Bingsjötraditionen. Under ledning av Ola fokuserar vi på: \n\nLåtspel och repertoar\nStil och uttryck: hur du hittar rätt frasering och själ i musiken\nOrnamentik och teknik: detaljerna som förvandlar en bra låt till en stor tolkning\nMöjlig utflykt till spelplatser och miljöer som format musiken\n\n  \nDu behöver behärska ditt instrument och kunna hänga med på gehörsutlärning.\nFör dig som vill utveckla både repertoar och personlig stil i en levande tradition. \nOla Bäckström — en av Sveriges mest eftertraktade fiolspelmän\, djupt rotad i Dalarnas rika folkmusiktradition. Känd för sina mästerliga Orelåtar och flera hyllade soloskivor\, och ofta hörd i samspel med spelmän som Päckos Gustaf och Per Gudmundsson. Ola var också med och drev fram den nya vågen av ensemblespel i svensk folkmusik från 1980-talet och har spelat med grupper som Den Fule\, Swåp och Boot. \nBegränsat antal platser (25 styck). \nÅterbud\nÅterbud kan lämnas senast två veckor före kursstart till kontakt@folkmusikenshus.se.\nVid återbetalningen dras en avgift på 200 kr (vuxen) eller 100 kr (barn).\nVid sjukdom återbetalas hela kursavgiften vid uppvisande av läkarintyg. \n  \nKursen arrangeras av Folkmusikens hus och är ett evenemang i Stämmoveckan. \n \n 
URL:https://folkmusikenshus.se/event/latkurs-med-ola-backstrom/
LOCATION:Folkmusikens hus\, Rättvik\, Dalagatan 7\, Rättvik\, Sweden
CATEGORIES:Stämmoveckan
ATTACH;FMTTYPE=image/jpeg:https://folkmusikenshus.se/folkmhus/wp-content/uploads/2026/03/ola.jpg
END:VEVENT
BEGIN:VEVENT
DTSTART;TZID=Europe/Stockholm:20260630T100000
DTEND;TZID=Europe/Stockholm:20260630T150000
DTSTAMP:20260423T141139
CREATED:20260401T085426Z
LAST-MODIFIED:20260401T085334Z
UID:10000155-1782813600-1782831600@folkmusikenshus.se
SUMMARY:Sångkurs med Maria Ähdel
DESCRIPTION:Folksång och stämmor\nVarmt välkomna till en hel dag fylld av folksång — en lekfull och fördjupande samling där vi dyker ner i fina visor\, kraftfulla koraler och fri\, livlig trall. Tillsammans utforskar vi ornamentik\, klangfärg\, enkel harmoni och sväng — allt med fokus på sångglädje\, gemenskap och personlig uttrycksfrihet. Man får också prova på att sjunga i stämmor – på Ähdelvis! Oavsett nivå får du verktyg att utveckla ditt eget rösterbjudande\, lära dig tonspråk och få nya sångvänner att dela musiken med. \nMaria Ähdel\nMaria kommer att leda dagen. Hon är folksångerska från Äppelbo med en särskild förkärlek för stämsång\, och med lång erfarenhet från spel i olika folkmusikensembler där hon också spelar tramporgel. Maria leder även kören i Dalarnas Lussibrud och bjuder på ett varmt\, inspirerande och tryggt ledarskap där både tradition och kreativitet står i centrum. Kom med öppet hjärta — här växer sången och glädjen tillsammans! \nÅterbud\nÅterbud kan lämnas senast två veckor före kursstart till kontakt@folkmusikenshus.se.\nVid återbetalningen dras en avgift på 200 kr (vuxen) eller 100 kr (barn).\nVid sjukdom återbetalas hela kursavgiften vid uppvisande av läkarintyg. \nKursen arrangeras av Folkmusikens hus och är ett evenemang i Stämmoveckan.
URL:https://folkmusikenshus.se/event/sangkurs-med-maria-ahdel/
LOCATION:Folkmusikens hus\, Rättvik\, Dalagatan 7\, Rättvik\, Sweden
CATEGORIES:Stämmoveckan
ATTACH;FMTTYPE=image/jpeg:https://folkmusikenshus.se/folkmhus/wp-content/uploads/2026/04/maria.jpg
END:VEVENT
BEGIN:VEVENT
DTSTART;TZID=Europe/Stockholm:20260630T110000
DTEND;TZID=Europe/Stockholm:20260630T130000
DTSTAMP:20260423T141139
CREATED:20260331T231228Z
LAST-MODIFIED:20260330T150050Z
UID:10000168-1782817200-1782824400@folkmusikenshus.se
SUMMARY:Hornblåsarstämman på Karl Tövåsens fäbod
DESCRIPTION:Hornblåsarstämman på Karl Tövåsens fäbod — en levande bit av Sveriges musikarv! \nUpplev hornens och vallmusikens urgamla klanger på Karl Tövåsens fäbod utanför Rättvik. Här\, vid en fäbod som varit i kontinuerligt bruk sedan minst 1663\, möts spelmän\, nyfikna besökare och naturen i en unik och levande mat-\, levnads och musiktradition.\nHornblåsarstämman\, arrangerad av Dalarnas spelmansförbunds horn- och blåssektion\, är såväl en träff för dig som spelar horn\, näverlur\, spilåpipa\, kular och lockar på kreatur vid fäboden som en fin konsert för dig som är intresserad av vallmusiken. \nDu har möjlighet att höra musiken\, uppleva en levande fäbod med servering\, prova på och kanske köpa ett instrument. Karl Tövåsens fäbodar har oslagbara förutsättningar för vallmusiken och har därför de senaste året blivit en återkommande plats för den anrika Hornblåsarstämman som genomförts runt om i Dalarna under ett halvt sekel. \n\n\nVälkommen till hornens tidlösa rop och en fäbod fylld av ljud\, dofter och historia. \n\n\nProgram\n11:00 Rundblåsning kring fäboden\n11:30 (ungefär) Program där vallmusiken och skogens instrument är i fokus\n13:00 Kurs i hornblåsning med Torkel Johansson – läs mer och anmäl dig till kursen via denna länk\n \nEntre 150 kr betalas på plats på fäboden. Inget förköp\, endast kontant eller Swish. \nKarl Tövåsens fäbod\nKarl Tövåsens fäbod är en av Dalarnas äldsta och mest välbevarade fäbodar\, omnämnd i skrift sedan 1663 och brukad varje sommar sedan dess. Historiskt har många gårdar fört över kor\, hästar och får hit för bete; på 1830-talet nyttjades fäboden av omkring 26 gårdar med över 100 kor och hundratals får och getter. Namnet har varierat genom århundradena och kan ha koppling till ett närliggande Kallberg. Idag är fäboden en levande kulturmiljö med djur på bete\, traditionellt mathantverk och mejeriprodukter\, kokkaffe från egen källa\, hembakat fika (även glutenfritt) och möjligheter att köpa lokala produkter — ett unikt stycke kulturhistoria att uppleva på plats. \nUnder Hornblåsarstämman blir Karl Tövåsens fäbod även en musikscen\, mitt i ett levande världsarv där vallmusiken får sina bästa förutsättningar. Platsen har använts varje sommar i över 350 år och erbjuder en oförglömlig kombination av natur\, kulturhistoria och autentiskt hantverk. Missa inte denna äkta och genuina fäbodsupplevelse med kor\, hästar\, kalvar\, grisar och höns på bete\, kokkaffe från egen källa\, hembakat fika och osttallrikar gjorda av fäbodens egna mejeriprodukter (finns efter tillgång). \nStämman arrangeras av Dalarnas spelmansförbund och är ett evenemang i Stämmoveckan.
URL:https://folkmusikenshus.se/event/hornblasarstamman-pa-karl-tovasens-fabod/
LOCATION:Karl-Tövåsens Fäbod\, Vikarbyn\, Karl-Tövåsen 22\, Vikarbyn\, 795 95
CATEGORIES:Stämmoveckan
ATTACH;FMTTYPE=image/jpeg:https://folkmusikenshus.se/folkmhus/wp-content/uploads/2026/03/hornblasarstamman.jpg
END:VEVENT
BEGIN:VEVENT
DTSTART;TZID=Europe/Stockholm:20260630T130000
DTEND;TZID=Europe/Stockholm:20260630T150000
DTSTAMP:20260423T141139
CREATED:20260331T231021Z
LAST-MODIFIED:20260327T101920Z
UID:10000126-1782824400-1782831600@folkmusikenshus.se
SUMMARY:Hornblåsarkurs med Torkel Johansson
DESCRIPTION:Hornblåsarkurs vid Karl-Tövåsens fäbod med Torkel Johansson för nybörjare och något erfarna. \nHär är en vallmusikalisk upplevelse på levande fäbod och kurs för dig som är sugen att komma igång med hornblåsning eller bara tycker det skulle vara kul att prova! \nTorkel Johansson är en av våra allra främsta blåsare på djurhorn och har också drivit projekt för nybörjare inom hornblåsning i många år. Vid såna kurser använder Torkel en variant av de klassiska hornen tillverkat i gran som dels är mer lättblåsta och dels går att stämma mer precist så att man kan blåsa samtidigt i grupp. Dessa horn tillverkade av Lurmakaren i Tällberg kommer att användas under kursen och Torkel har med sig så att det räcker till alla kursdeltagare. Du behöver alltså inte ta med dig något eget. \nHornblåsarstämman börjar med rundblåsning och program på fäbodvallen kl 11:00. Entré till stämman är inbakad i kurspriset. \nTillgänglighet\nKursen genomförs utomhus på en fäbod\, vid regn finns alternativ. \nÅterbud\nÅterbud kan lämnas senast två veckor före kursstart till kontakt@folkmusikenshus.se.\nVid återbetalningen dras en avgift på 200 kr (vuxen) eller 100 kr (barn).\nVid sjukdom återbetalas hela kursavgiften vid uppvisande av läkarintyg. \nKursen arrangeras av Folkmusikens hus och är en del av Stämmoveckan.
URL:https://folkmusikenshus.se/event/hornblasarkurs-med-torkel-johansson-2/
LOCATION:Karl-Tövåsens Fäbod\, Vikarbyn\, Karl-Tövåsen 22\, Vikarbyn\, 795 95
CATEGORIES:Stämmoveckan
ATTACH;FMTTYPE=image/jpeg:https://folkmusikenshus.se/folkmhus/wp-content/uploads/2026/03/torkel.jpg
END:VEVENT
BEGIN:VEVENT
DTSTART;TZID=Europe/Stockholm:20260630T153000
DTEND;TZID=Europe/Stockholm:20260630T173000
DTSTAMP:20260423T141139
CREATED:20260331T231013Z
LAST-MODIFIED:20260401T132152Z
UID:10000148-1782833400-1782840600@folkmusikenshus.se
SUMMARY:Östen med resten - 40 1/2 År! Succén fortsätter!
DESCRIPTION:Östen med resten – Succén fortsätter! \nDet började 1985 som en jamsession på en spelmansstämma i Vilhelmina. Sedan följde några sporadiska spelningar där orkestermedlemmarna vägrade\, till arrangörernas förvåning\, ta betalt. Allt eftersom speljobben och deras popularitet (även gagen) ökade i omfattning så blev deras arbetssituation annorlunda. \nI början på 90-talet hade de en programserie i P3 på Sveriges Radio med namnet ”Norr om Dalälven” tillsammans med Hudiksvalls storband. Samtidigt blev de populära gäster i många andra radio och teveprogram. 1994 hade de en egen programserie på SVT som hette ”Östen Direkt”. I studion kunde gäster i programmet äta kräm i direktsändning samtidigt som folk från hela Sverige ringde in och önskade låtar som de alltid gjorde något roligt av. Samtidigt som skivinspelningar och turnéer höll bandet igång gjorde de ytterligare två TV-serier\, ”Fullständiga rättigheter” (1997) i krogmiljö från Sundsvall och ”Uppdrag: Musik” (1999 – 2000) där gäster i programmet bl.a. fick gissa på låtar som bandet spelade baklänges. \n2002 ändrades Melodifestivalen om till att ha flera deltävlingar i stället för en enda tävling. Där fick Östen med Resten sin stora hit: ”Hon kommer med solsken”. De tog sig till final till Globen med 72% av alla röster. Året efter kom av bara farten också till final i Globen med låten ”Maria”. \nGenom åren har de stått på lastbilsflak\, spelat på ställen där deltagarna på scenen har varit fler än i publiken\, sjungit ”Ser du stjärnan i det blå” med Bengt Feldreich och blivit bejublade både på Globen och Bjuråkerstämman. \nInsläpp kl. 15.30 – Pausservering: Längd: 2 x ca 60 minuter + Paus \nHandikappad ordinarie biljett – en ledsagare medföljer fritt \nKonserten arrangeras av Nygårdsgården och är en del av Stämmoveckan.
URL:https://folkmusikenshus.se/event/osten-med-resten-40-1-2-ar-succen-fortsatter/
LOCATION:Nygårdsgården\, Bingsjö\, Dådransvägen 19\, Enviken\, Dalarna\, 795 92\, Sweden
CATEGORIES:Stämmoveckan
ATTACH;FMTTYPE=image/jpeg:https://folkmusikenshus.se/folkmhus/wp-content/uploads/2026/03/osten.jpg
END:VEVENT
BEGIN:VEVENT
DTSTART;TZID=Europe/Stockholm:20260630T170000
DTEND;TZID=Europe/Stockholm:20260630T183000
DTSTAMP:20260423T141139
CREATED:20260331T230003Z
LAST-MODIFIED:20260331T074448Z
UID:10000186-1782838800-1782844200@folkmusikenshus.se
SUMMARY:Rättviks spelmanslags sommarkonsert
DESCRIPTION:Årets sommarkonsert med Rättviks spelmanslag handlar om Lerdal-Gärdebyn och spelmännen därifrån. I dessa byar kan man säga att lagets vagga stod. På ett dans och spelcafe i Långbacken bildades laget för första gången hösten 1943 av spelmän från de södra byarna. Ingen riktig verksamhet kom dock igång\, utan laget startades ånyo året efter på en stämma i Rättviksparken då en styrelse bildades. \n\nBland de spelmän vi lyfter fram i årets konsert finns Börjes Olle\, Elg Anders\, Anders Forsman\, Erik Nordqvist\, Perols Gudmund och Fyhr Olle. \nEntré 250 kr\, betalas på plats. \n\n\nKonserten arrangeras av Rättviks spelmanslag och är ett evenemang under Stämmoveckan.
URL:https://folkmusikenshus.se/event/rattviks-spelmanslags-sommarkonsert/
LOCATION:Rättviks kyrka\, Kyrkvägen 11\, Rättvik\, 795 32
CATEGORIES:Stämmoveckan
ATTACH;FMTTYPE=image/jpeg:https://folkmusikenshus.se/folkmhus/wp-content/uploads/2026/03/rattviks_spllag.jpg
END:VEVENT
BEGIN:VEVENT
DTSTART;TZID=Europe/Stockholm:20260630T180000
DTEND;TZID=Europe/Stockholm:20260701T000000
DTSTAMP:20260423T141139
CREATED:20260331T230037Z
LAST-MODIFIED:20260401T133932Z
UID:10000185-1782842400-1782864000@folkmusikenshus.se
SUMMARY:Bingsjöstämmans förstämma
DESCRIPTION:Varje sommar samlas spelmän\, dansare och andra musikintresserade några dagar\, kvällar och nätter i början av juli. Hela Bingsjö blir en levande scen där alla är välkomna att deltaga. Eller bara lyssna.\nStämman tjuvstartas med en förstämma på tisdagskvällen. Program vid bystugan och på Nygårdsgården. \nDen lilla byn i Rättviks finnmark blir världens mittpunkt för tusentals folkmusiktörstande. Här flyter mötet mellan bybo och besökare\, musikant och dansare\, publik och artist ihop till en unik och ljuvlig blandning. Suset av toner från förtält och buskar breder ut sig och byn tystnar inte förrän solen gått upp på torsdagsmorgonen. \nProgrammet presenteras på Bingsjöstämmans hemsida under våren. \nBingsjöstämman arrangeras första onsdagen i juli sedan 1969. Bakom arrangemanget står Dalarnas Spelmansförbund\, Folkmusikens Hus och Bingsjö Bystugeförening. \nStämman arrangeras av föreningen Bingsjöstämman och är ett evenemang under Stämmoveckan.
URL:https://folkmusikenshus.se/event/bingsjostamman-forstamma/
LOCATION:Bingsjö\, Bingsjö\, 79026
CATEGORIES:Stämmoveckan
ATTACH;FMTTYPE=image/jpeg:https://folkmusikenshus.se/folkmhus/wp-content/uploads/2026/03/bingsjo.jpg
END:VEVENT
BEGIN:VEVENT
DTSTART;TZID=Europe/Stockholm:20260630T200000
DTEND;TZID=Europe/Stockholm:20260630T230000
DTSTAMP:20260423T141139
CREATED:20260331T230131Z
LAST-MODIFIED:20260408T153503Z
UID:10000175-1782849600-1782860400@folkmusikenshus.se
SUMMARY:Bystugedans i Vikarbyn med Rättviksspelmän
DESCRIPTION:Välkommen till Vikarbyns bystuga i Rättvik. Kanske hörde du Rättviks spelmanslag i kyrkan tidigare under dagen då laget hade sin bejublade och årligt återkommande sommarkonsert? Nu spelar delar av laget upp till dans. Det går även fint att bara sitta och lyssna om man är mer intresserad av det. \nRättviks spelmanslag är ett av landets äldsta spelmanslag och har ca 100 medlemmar varav hälften är aktiva. Redan vid starten fastslogs ett av kraven för medlemskap i laget till att man ”ska ha viljan och behov av att spela folkmusik”. Det har laget\, liksom lusten att spela till dans. Den sista timmen under danskvällen spelar Vikôrlåtar. Det är byns egna spelmän som denna kväll kan vara lite förstärkta. Laget leds av Täpp Ida Almlöf och Hans Ehrling. \nVikôrlåtar är Vikarbyns egna spelmanslag. Repertoaren består av mestadels lokala låtar men även andra Rättviksfavoriter smyger sig in i låtordningen en sådan här kväll.Vikôrlåtar kan man bland annat höra vid Valborgskonserten\, vid kyrkbåtsroddar och vid midsommar och julmarknad i Vikarbyn. Och sedan några år tillbaka även under Stämmoveckan! \n\nKl 20:00 – 22:00 Rättviks Spelmanslag\nKl 22:00 – 23:00 Vikörlåtar\n\n  \nEntré: 150 kr betalas på plats.\nFikaförsäljning under kvällen. \nBystugedansen arrangeras av Vikarbyns byaförening och är ett evenemang under Stämmoveckan.
URL:https://folkmusikenshus.se/event/bystugedans-i-vikarbyn-med-rattviks-spelmanslag/
LOCATION:Vikarbyns bystuga\, Rättvik\, Granmorvägen 4\, Vikarbyn\, Dalarna\, 79570
CATEGORIES:Stämmoveckan
ATTACH;FMTTYPE=image/jpeg:https://folkmusikenshus.se/folkmhus/wp-content/uploads/2026/04/rattvik_bystugan.jpg
END:VEVENT
END:VCALENDAR