BEGIN:VCALENDAR
VERSION:2.0
PRODID:-//Folkmusikens hus - ECPv6.15.20//NONSGML v1.0//EN
CALSCALE:GREGORIAN
METHOD:PUBLISH
X-WR-CALNAME:Folkmusikens hus
X-ORIGINAL-URL:https://folkmusikenshus.se
X-WR-CALDESC:Händelser för Folkmusikens hus
REFRESH-INTERVAL;VALUE=DURATION:PT1H
X-Robots-Tag:noindex
X-PUBLISHED-TTL:PT1H
BEGIN:VTIMEZONE
TZID:Europe/Stockholm
BEGIN:DAYLIGHT
TZOFFSETFROM:+0100
TZOFFSETTO:+0200
TZNAME:CEST
DTSTART:20250330T010000
END:DAYLIGHT
BEGIN:STANDARD
TZOFFSETFROM:+0200
TZOFFSETTO:+0100
TZNAME:CET
DTSTART:20251026T010000
END:STANDARD
BEGIN:DAYLIGHT
TZOFFSETFROM:+0100
TZOFFSETTO:+0200
TZNAME:CEST
DTSTART:20260329T010000
END:DAYLIGHT
BEGIN:STANDARD
TZOFFSETFROM:+0200
TZOFFSETTO:+0100
TZNAME:CET
DTSTART:20261025T010000
END:STANDARD
BEGIN:DAYLIGHT
TZOFFSETFROM:+0100
TZOFFSETTO:+0200
TZNAME:CEST
DTSTART:20270328T010000
END:DAYLIGHT
BEGIN:STANDARD
TZOFFSETFROM:+0200
TZOFFSETTO:+0100
TZNAME:CET
DTSTART:20271031T010000
END:STANDARD
END:VTIMEZONE
BEGIN:VEVENT
DTSTART;TZID=Europe/Stockholm:20260628T093000
DTEND;TZID=Europe/Stockholm:20260628T120000
DTSTAMP:20260423T141159
CREATED:20260331T231025Z
LAST-MODIFIED:20260324T101852Z
UID:10000143-1782639000-1782648000@folkmusikenshus.se
SUMMARY:Danskurs i hallingdans med Lotta och Martin Eneling på Tobaksspinnarstämman
DESCRIPTION:Danskurs med Lotta Eneling Levin och Martin Eneling\nNås fria Halling\, på lek och allvar\nPå förmiddagen kommer Martin och Lotta att lära ut grunderna i halling –  på lek och allvar! Hallingen var förr i tiden allmän i västerdalarna\, Värmland och delar av Norge. Spelman: Anders Norudde.\nSamling 09:00 i Ordenshuset för kursanmälan och registrering. Vi bjuder på morgonfika och bullar! \nLotta och Martin\nMartin och Lotta har i över tjugo års tid dansat\, och hållit kurser i västsvenska danser. \nPraktisk information om Tobaksspinnarstämmans kurser\nKursanmälan via förköp är möjligt fram till  fredagen den 26 juni kl. 10.00. I mån av plats kommer det också finnas möjlighet att anmäla sig under stämman men vill du vara säker på att få en plats bör du anmäla dig i förväg.\nMax 40 deltagare på danskurserna och max 30 deltagare på spel- och sång-kurserna. \n \n\nKursen arrangeras av Tobaksspinnarstämman i samarbete med Folkmusikens hus\noch är ett evenemang i Stämmoveckan.
URL:https://folkmusikenshus.se/event/danskurs-med-lotta-martin-pa-tobaksspinnarstamman/
LOCATION:Ordenshuset\, Nås\, Nås 29\, Nås\, 786 93
CATEGORIES:Stämmoveckan
ATTACH;FMTTYPE=image/jpeg:https://folkmusikenshus.se/folkmhus/wp-content/uploads/2026/03/martin_lotta.jpg
END:VEVENT
BEGIN:VEVENT
DTSTART;TZID=Europe/Stockholm:20260628T093000
DTEND;TZID=Europe/Stockholm:20260628T120000
DTSTAMP:20260423T141159
CREATED:20260331T231031Z
LAST-MODIFIED:20260324T101020Z
UID:10000137-1782639000-1782648000@folkmusikenshus.se
SUMMARY:Låtkurs med Pelle Björnlert på Tobaksspinnarstämman
DESCRIPTION:Låtkurs med Pelle Björnlert\nVackra och dansanta låtar\, egna och andras\, från Småland och Östra Götaland\nSamling 09:00 i Ordenshuset för kursanmälan och registrering. Vi bjuder på morgonfika och bullar! \nPelle Björnlert\nPelle Björnlert\, från Vråka i nordöstra Småland\, spelar företrädesvis musik som har sina rötter i den småländska och östgötska folkmusiktraditionen. Pelle har stort fokus på låtarnas ursprungliga funktion som bruks- och dansmusik och har under lång tid utvecklat sitt låtspel i nära kommunikation med dansen. Tidigt skapade han sig ett namn i kraft av ett personligt spelsätt med en smittande dansrytm och har länge varit en förebild för många spelmän från södra Sverige. Pelle säger: ”Min strävan är att spela en dansant\, livfull och variationsrik musik”. På senare år har Pelles börjat komponera egna låtar\, de flesta i traditionell stil\, men ibland med en lite annorlunda udd. 2020 tilldelades han Stims pris som ”Årets kompositör”. Pelle spelar vanlig fiol och även på en fiol med resonanssträngar; violino d’amore. Han är riksspelman och har dessutom erhållit Zornmärket i guld. \nGenom åren har det blivit många dansspelningar och konserter\, både solo och i olika konstellationer med till exempel Bengt Löfberg\, Erik Pekkari\, Johan Hedin\, Nora Roll\, Anders Löfberg och Simon Nyberg. Hemma hos Pelle är det många elever som har gästat och han är även en ofta anlitad lärare på olika kurser och folkhögskolor. \nEfter det första albumet ”En roliger dans” (1976)\, tillsammans med Bengt Löfberg\, har det genom åren blivit många utgivningar. Det senaste är ”Original” (2022) vilket mestadels innehåller traditionella sololåtar. \nPraktisk information om Tobaksspinnarstämmans kurser\nKursanmälan via förköp är möjligt fram till  fredagen den 26 juni kl. 10.00. I mån av plats kommer det också finnas möjlighet att anmäla sig under stämman men vill du vara säker på att få en plats bör du anmäla dig i förväg.\nMax 40 deltagare på danskurserna och max 30 deltagare på spel- och sång-kurserna. \n \n\nKursen arrangeras av Tobaksspinnarstämman i samarbete med Folkmusikens hus\noch är ett evenemang i Stämmoveckan.
URL:https://folkmusikenshus.se/event/latkurs-med-pelle-bjornlert-pa-tobaksspinnarstamman/
LOCATION:Ordenshuset\, Nås\, Nås 29\, Nås\, 786 93
CATEGORIES:Stämmoveckan
ATTACH;FMTTYPE=image/jpeg:https://folkmusikenshus.se/folkmhus/wp-content/uploads/2026/03/pelle.jpg
END:VEVENT
BEGIN:VEVENT
DTSTART;TZID=Europe/Stockholm:20260628T130000
DTEND;TZID=Europe/Stockholm:20260628T153000
DTSTAMP:20260423T141159
CREATED:20260331T230441Z
LAST-MODIFIED:20260324T102150Z
UID:10000145-1782651600-1782660600@folkmusikenshus.se
SUMMARY:Danskurs i polskedans med Lotta och Martin Eneling på Tobaksspinnarstämman
DESCRIPTION:Danskurs med Lotta Eneling Levin och Martin Eneling\nDen nigande polskan. Grundsteg och djup i dansens karaktär\, variation och repertoar\nPå eftermiddagen blir det ”Värmländsk kôrt etta”\, ”Jössehärspolska” eller ”Den nigande polskan” som den också kallas. Grundstegen kommer att läras ut men Martin och Lotta kommer också att gå djupare in i dansens karaktär\, variation och repertoar. Spelman: Zara Helje.\nSamling 09:00 i Ordenshuset för kursanmälan och registrering. Vi bjuder på morgonfika och bullar! \nLotta och Martin\nMartin och Lotta har i över tjugo års tid dansat\, och hållit kurser i västsvenska danser. \nPraktisk information om Tobaksspinnarstämmans kurser\nKursanmälan via förköp är möjligt fram till  fredagen den 26 juni kl. 10.00. I mån av plats kommer det också finnas möjlighet att anmäla sig under stämman men vill du vara säker på att få en plats bör du anmäla dig i förväg.\nMax 40 deltagare på danskurserna och max 30 deltagare på spel- och sång-kurserna. \n \n\nKursen arrangeras av Tobaksspinnarstämman i samarbete med Folkmusikens hus\noch är ett evenemang i Stämmoveckan.
URL:https://folkmusikenshus.se/event/danskurs-i-polskedans-med-lotta-och-martin-eneling-pa-tobaksspinnarstamman/
LOCATION:Ordenshuset\, Nås\, Nås 29\, Nås\, 786 93
CATEGORIES:Stämmoveckan
ATTACH;FMTTYPE=image/jpeg:https://folkmusikenshus.se/folkmhus/wp-content/uploads/2026/03/martin_lotta.jpg
END:VEVENT
BEGIN:VEVENT
DTSTART;TZID=Europe/Stockholm:20260628T130000
DTEND;TZID=Europe/Stockholm:20260628T153000
DTSTAMP:20260423T141159
CREATED:20260331T231034Z
LAST-MODIFIED:20260324T102806Z
UID:10000138-1782651600-1782660600@folkmusikenshus.se
SUMMARY:Låtkurs med Anders Norudde på Tobaksspinnarstämman
DESCRIPTION:Låtkurs med Anders Norudde\nHemkära låtar\, från östra Värmland\nSamling 09:00 i Ordenshuset för kursanmälan och registrering. Vi bjuder på morgonfika och bullar! \nAnders Norudde\nAnders kommer att lära ut låtar från sina hemtrakter i östra Värmland. Han har spelat fiol och flera andra folkmusikinstrument sedan 1978. Intresset har alltid varit det ålderdomliga\, lokala och det som svänger. Samtidigt har han på denna grund förnyat folkmusiken genom grupper som Blå bergens borduner och Hedningarna. På senare tid spelar han i duos med bland annat Karin Wallin. Anders är fiolbyggare\, utbildad i Leksand 1982-86. \nPraktisk information om Tobaksspinnarstämmans kurser\nKursanmälan via förköp är möjligt fram till  fredagen den 26 juni kl. 10.00. I mån av plats kommer det också finnas möjlighet att anmäla sig under stämman men vill du vara säker på att få en plats bör du anmäla dig i förväg.\nMax 40 deltagare på danskurserna och max 30 deltagare på spel- och sång-kurserna. \n \nKursen arrangeras av Tobaksspinnarstämman i samarbete med Folkmusikens hus\noch är ett evenemang i Stämmoveckan.
URL:https://folkmusikenshus.se/event/latkurs-med-anders-norudde-pa-tobaksspinnarstamman/
LOCATION:Ordenshuset\, Nås\, Nås 29\, Nås\, 786 93
CATEGORIES:Stämmoveckan
ATTACH;FMTTYPE=image/jpeg:https://folkmusikenshus.se/folkmhus/wp-content/uploads/2026/03/norudde.jpg
END:VEVENT
BEGIN:VEVENT
DTSTART;TZID=Europe/Stockholm:20260628T140000
DTEND;TZID=Europe/Stockholm:20260628T150000
DTSTAMP:20260423T141159
CREATED:20260331T230156Z
LAST-MODIFIED:20260330T191201Z
UID:10000173-1782655200-1782658800@folkmusikenshus.se
SUMMARY:Sandy Brechin Quartrio
DESCRIPTION:Skotskt och svenskt \nDragspelsfantomen Sandy Brechin kommer tillbaka till logen med sitt svenska band. Gruppens skiva ”Polecats & Dead Cats” har fått stor uppskattning bland folkmusikpubliken världen över\, den blev bland annat utnämnd till veckans skiva på BBC Radio Scotland. Bandet består av Sandy Brechin på dragspel\, David Albertsson på gitarr samt Torsåkersborna Jimmy Johansson och Christopher Andersson Bång på fiol respektive kontrabas. \nSandy har även med sig några skotska kompisar denna gång. Tvättäkta skotskt! \nBiljetter köps via Knuteslogens hemsida \nKonserten arrangeras av Knuteslogen och är ett evenemang under Stämmoveckan.
URL:https://folkmusikenshus.se/event/sandy-brechin-quartrio/
LOCATION:Knuteslogen\, Vikarbyn\, Täppvägen 1\, Vikarbyn\, Dalarna\, 79570
CATEGORIES:Stämmoveckan
ATTACH;FMTTYPE=image/jpeg:https://folkmusikenshus.se/folkmhus/wp-content/uploads/2026/03/SBQT.jpg
END:VEVENT
BEGIN:VEVENT
DTSTART;TZID=Europe/Stockholm:20260628T160000
DTEND;TZID=Europe/Stockholm:20260628T173000
DTSTAMP:20260423T141159
CREATED:20260331T231232Z
LAST-MODIFIED:20260401T140049Z
UID:10000164-1782662400-1782667800@folkmusikenshus.se
SUMMARY:Ranarim & Ethnoensemble
DESCRIPTION:Missa inte tillfälle att återigen höra ett av svensk folkmusiks mest spännande band\, ett band som har inspirerat och skapat glädje för så många med sitt sound och sväng. På energifylld tvåstämmig sång finns sångsystrarna Ulrika Bodén och Sofia Sandén\, nyckelharporna trakteras av riksspelmannen och världsmästaren Niklas Roswall\, Daniel Ek spelar på sin unika harpgitarr och Olle Linder sitter stadigt bakom slagverket. \nEthno\, det världsomfattande musiklägret i Rättvik\, pågår för full under veckan och i samband med Ranarims konsert bjuder en av konstellationerna på Ethno av sin musik och sina traditioner. Vilken grupp det blir bestäms först under lägret så här får publiken en överraskning av finaste sort! Sväng och spelglädje utlovas! \nKonserten arrangeras av Alfvéngården i samarbete med Folkmusikens hus och är ett program under Stämmoveckan. \n \n 
URL:https://folkmusikenshus.se/event/ranarim-ethnoensemble/
LOCATION:Alfvéngården\, Leksand\, Tibble Pipargattu 21\, Leksand\, 79336
CATEGORIES:Stämmoveckan
ATTACH;FMTTYPE=image/jpeg:https://folkmusikenshus.se/folkmhus/wp-content/uploads/2026/03/ranarim.jpg
END:VEVENT
BEGIN:VEVENT
DTSTART;TZID=Europe/Stockholm:20260628T170000
DTEND;TZID=Europe/Stockholm:20260628T183000
DTSTAMP:20260423T141159
CREATED:20260331T230354Z
LAST-MODIFIED:20260331T073342Z
UID:10000174-1782666000-1782671400@folkmusikenshus.se
SUMMARY:Spela låtar med Rättviks spelmanslag
DESCRIPTION:Här har du möjlighet att vara med på en öppen repetition med Rättviks spelmanslag. Passa på att ljudbada i Rättvikspolskor\, spela med i dina favoritlåtar och utmana dig själv att hänga med i nya oupptäckta favoriter! Rättviks spelmanslag spelar tillsammans en gång i veckan under höst-\, vinter- och vårmånaderna. Mellan 50-60 personer brukar regelbundet närvara på repetitionerna som leds av spelledarna Täpp Ida Almlöf och Hans Ehrling. \nDagens öppna repetition hålls i Vikarbyns bystuga.Ta med ditt instrument och var med och spela rättvikslåtar. Vi spelar lagets vanliga repertoar. Vill du bara lyssna så går det lika bra! \nFri entré\nFika finns till försäljning. \nSpelträffen arrangeras av Rättviks spelmanslag och är ett evenemang under Stämmoveckan.
URL:https://folkmusikenshus.se/event/spela-latar-med-rattviks-spelmanslag/
LOCATION:Vikarbyns bystuga\, Rättvik\, Granmorvägen 4\, Vikarbyn\, Dalarna\, 79570
CATEGORIES:Stämmoveckan
ATTACH;FMTTYPE=image/jpeg:https://folkmusikenshus.se/folkmhus/wp-content/uploads/2026/03/spelalatar.jpg
END:VEVENT
BEGIN:VEVENT
DTSTART;TZID=Europe/Stockholm:20260628T183000
DTEND;TZID=Europe/Stockholm:20260628T230000
DTSTAMP:20260423T141159
CREATED:20260331T230040Z
LAST-MODIFIED:20260415T141208Z
UID:10000180-1782671400-1782687600@folkmusikenshus.se
SUMMARY:Bystugedans i Övermo med Leksands spelmanslag
DESCRIPTION:Välkommen på bystugedans i Övermo bystuga till Leksands spelmanslag. Laget spelar låtar efter spelmän i byarna kring Leksand med omnejd men spelar även låtar från andra delar av landet. Leksands Spelmanslag har mer än 70 medlemmar och cirka 30 av dem spelar regelbundet. \n\n\n18.20 öppnar kassan\n18.30-19.20 Kvällen inleds med dansutlärning\n20.00-23.00 Spel till dans\nEntré 150 kr\, betalas på plats. \n\n\nFikaförsäljning finns under kvällen och det finns möjlighet till ställplats för husbil. \n\nBystugedansen arrangeras av Övermo bystugeförening och Leksands spelmanslag och är ett evenemang under Stämmoveckan.
URL:https://folkmusikenshus.se/event/bystugedans-i-overmo-med-leksands-spelmanslag/
LOCATION:Övermo bystuga\, Övermo Bystuguvägen\, Leksand\, Dalarna\, 79335\, Sweden
CATEGORIES:Stämmoveckan
ATTACH;FMTTYPE=image/jpeg:https://folkmusikenshus.se/folkmhus/wp-content/uploads/2026/03/leksandsspelmanslag.jpg
END:VEVENT
BEGIN:VEVENT
DTSTART;TZID=Europe/Stockholm:20260628T183000
DTEND;TZID=Europe/Stockholm:20260628T233000
DTSTAMP:20260423T141159
CREATED:20260331T231554Z
LAST-MODIFIED:20260330T190139Z
UID:10000171-1782671400-1782689400@folkmusikenshus.se
SUMMARY:Tobaksspinnarstämman 2026 - söndag
DESCRIPTION:Tobaksspinnarstämman är mötesplatsen för alla vänner av västerdalsmusik och kallas ibland ”Lilla Ransäter”. Gemytligt\, intimt och massor av bra musik och dans! Som vanligt blir det kurser\, konserter\, kolbullar\, danskvällar och visstuga! Det blir också skivsläpp med Anders Rosén och Jonas Åkerlund. Trots den västsvensk profilen kan stämman i år stolt hälsa en storspelman från Småland välkommen som lärare: Pelle Björnlert! Alla de 13 kurserna presenteras var för sig på hemsidan. \nSöndagen 28/6\n18:30 Stor folkmusikkonsert\, Nås kyrka. Efter konserten bjuds alla in till kyrkkaffe i Ordenshuset.\nDärefter polskeakut och dans till spellista. \n22:00 Sena timmen: Intimkonsert med Anders Rosén och Pelle Björnlert. Biljetterna (endast 30 stycken) släpps i samband med kursregistreringen på lördag morgon. \nMåndag 29/6\n16:00 Konsert i Ordenshuset: William med vänner\n18:00 Allspel med låtar längs Västerdalälven.\n19:00 Dans till spelmanslag\, spellista\, servering\, kolbullar\, buskspel.\n20:00 Visstuga i Nåsgården: Linnea med vänner \nTobaksspinnarstämman i Nås arrangeras av sammanslutningen Tobaksspinnarstämman och är ett evenemang i Stämmoveckan. \n \n  \n 
URL:https://folkmusikenshus.se/event/tobaksspinnarstamman-2026-sondag/
LOCATION:Ordenshuset\, Nås\, Nås 29\, Nås\, 786 93
CATEGORIES:Stämmoveckan
ATTACH;FMTTYPE=image/jpeg:https://folkmusikenshus.se/folkmhus/wp-content/uploads/2026/03/tobaksspinnarstamman.jpg
END:VEVENT
END:VCALENDAR