BEGIN:VCALENDAR
VERSION:2.0
PRODID:-//Folkmusikens hus - ECPv6.15.20//NONSGML v1.0//EN
CALSCALE:GREGORIAN
METHOD:PUBLISH
X-ORIGINAL-URL:https://folkmusikenshus.se
X-WR-CALDESC:Händelser för Folkmusikens hus
REFRESH-INTERVAL;VALUE=DURATION:PT1H
X-Robots-Tag:noindex
X-PUBLISHED-TTL:PT1H
BEGIN:VTIMEZONE
TZID:Europe/Stockholm
BEGIN:DAYLIGHT
TZOFFSETFROM:+0100
TZOFFSETTO:+0200
TZNAME:CEST
DTSTART:20250330T010000
END:DAYLIGHT
BEGIN:STANDARD
TZOFFSETFROM:+0200
TZOFFSETTO:+0100
TZNAME:CET
DTSTART:20251026T010000
END:STANDARD
BEGIN:DAYLIGHT
TZOFFSETFROM:+0100
TZOFFSETTO:+0200
TZNAME:CEST
DTSTART:20260329T010000
END:DAYLIGHT
BEGIN:STANDARD
TZOFFSETFROM:+0200
TZOFFSETTO:+0100
TZNAME:CET
DTSTART:20261025T010000
END:STANDARD
BEGIN:DAYLIGHT
TZOFFSETFROM:+0100
TZOFFSETTO:+0200
TZNAME:CEST
DTSTART:20270328T010000
END:DAYLIGHT
BEGIN:STANDARD
TZOFFSETFROM:+0200
TZOFFSETTO:+0100
TZNAME:CET
DTSTART:20271031T010000
END:STANDARD
END:VTIMEZONE
BEGIN:VEVENT
DTSTART;TZID=Europe/Stockholm:20260626T093000
DTEND;TZID=Europe/Stockholm:20260627T180000
DTSTAMP:20260423T130000
CREATED:20260331T232540Z
LAST-MODIFIED:20260401T124155Z
UID:10000154-1782466200-1782583200@folkmusikenshus.se
SUMMARY:Leksands Musikverkstad 2026
DESCRIPTION:Två dagar – glädjefyllda\, sprudlande och fulla av musik. Välkommen till kursen där alla instrument är välkomna att spela folkrock med Hoven Droven på Leksands vackra Hembygdsgårdar. \nKursen pågår från fredag morgon och avslutas i samband med Leksands spelmansstämma mot kvällningen på lördagen. I kursavgiften ingår fika men var och en fixar sin lunch själv på den väl tilltagna lunchrasten. \nTillsammans med medlemmarna i Hoven Droven så finns pedagoger med en blandning av huvudinstrument som kan stötta deltagarna\, oavsett instrument. \nKursen riktar sig i första hand till åldrarna 10-16 år men undantag kan göras efter kontakt. Efter anmälan får du ett frågeformulär där du kan fylla i lite uppgifter om deltagaren. För att deltagarna ska hänga med i undervisningen ska de ha kommit en liten bit i sitt spel och kunna ta hand om sitt instrument själv. Om ni är osäkra på om kursen är rätt för er – kontakta Jon Holmén på Folkmusikens hus. \nKursen arrangeras av Folkmusikens hus i samarbete med Dalarnas Spelmansförbund och studieförbundet Bilda och är en del av Stämmoveckan.
URL:https://folkmusikenshus.se/event/leksands-musikverkstad-2026/
LOCATION:Hembygdsgårdarna\, Leksand\, Kyrkallén 13\, Leksand\, 793 31\, Sweden
CATEGORIES:Stämmoveckan
ATTACH;FMTTYPE=image/jpeg:https://folkmusikenshus.se/folkmhus/wp-content/uploads/2026/03/musikverkstan.jpg
END:VEVENT
BEGIN:VEVENT
DTSTART;TZID=Europe/Stockholm:20260626T150000
DTEND;TZID=Europe/Stockholm:20260626T173000
DTSTAMP:20260423T130000
CREATED:20260324T081245Z
LAST-MODIFIED:20260324T110221Z
UID:10000132-1782486000-1782495000@folkmusikenshus.se
SUMMARY:Låtkurs med Per Saxholm på Tobaksspinnarstämman
DESCRIPTION:Låtkurs med Per Saxholm\nPer lär ut gränslåtar från Filipstads\, Malungs och Nås gamla härader.\nSamling från 14:30 i Ordenshuset för registrering och kursanmälan. \nPer Saxholm\nPer Saxholm växte upp på 60-talet med östvärmländsk musik omkring sig\, eftersom många i hans släkt var spelmän. Sedan mitten på 70-talet har han ett nära samspel med Lennart Gybrant. Per har givit ut skivor\, som soloartist och i samspel med Lennart Gybrant och Anders Norudde. Genom sitt arbete som präst i östra Värmland träffade han många som spelade gammal musik. Hans repertoar är stor och unik. \nPraktisk information om Tobaksspinnarstämmans kurser\nKursanmälan via förköp är möjligt fram till  fredagen den 26 juni kl. 10.00. I mån av plats kommer det också finnas möjlighet att anmäla sig under stämman men vill du vara säker på att få en plats bör du anmäla dig i förväg.\nMax 40 deltagare på danskurserna och max 30 deltagare på spel- och sång-kurserna. \n \n\nKursen arrangeras av Tobaksspinnarstämman i samarbete med Folkmusikens hus\noch är ett evenemang i Stämmoveckan.
URL:https://folkmusikenshus.se/event/latkurs-med-per-saxholm-pa-tobaksspinnarstamman/
LOCATION:Ordenshuset\, Nås\, Nås 29\, Nås\, 786 93
CATEGORIES:Stämmoveckan
ATTACH;FMTTYPE=image/jpeg:https://folkmusikenshus.se/folkmhus/wp-content/uploads/2026/03/saxholm.jpg
END:VEVENT
BEGIN:VEVENT
DTSTART;TZID=Europe/Stockholm:20260626T180000
DTEND;TZID=Europe/Stockholm:20260626T193000
DTSTAMP:20260423T130000
CREATED:20260331T230014Z
LAST-MODIFIED:20260416T115918Z
UID:10000158-1782496800-1782502200@folkmusikenshus.se
SUMMARY:Spelmän med guldglans
DESCRIPTION:Välkommen till en kväll fylld av tradition\, skicklighet och spelglädje — en konsert med spelmän från Dalarna och med anknytning till Dalarna som förärats Zornmärket i guld. Ett tiotal av landets främsta musiker samlas för att bjuda på en varm\, levande och oförglömlig traditionell musikupplevelse. Möt kraften i traditionsmusiken framförda av guldspelmän som bär på stor erfarenhet och genuin speltradition. \nArrangemanget äger rum under veckan efter midsommar när Dalarnas Spelmansförbund och Zornmärkesnämnden håller 2026 års Zornmärkesuppspelningar i Falun. \nHela Zornmärkesveckan kommer att bjuda på många konserter och upplevelser. Guldmärkeskonserten är en perfekt start på helgen – och på Stämmoveckan – innan Zornmärkesveckan avslutas med Riksspelmansstämman i Leksand — en folkfest för alla som älskar folkmusik. \nMedverkande spelmän: Per Gudmundson\, Kungs Levi Nilsson\, Ulf Störling\, Leif Göras\, Anders Jakobsson\, Alm Nils Ersson\, Simon Simonsson\, Bernt Lindström\, Carina Normansson. \nPresentatör: Agneta Stolpe \nLäs mer om Zornmärkesuppspelningarna via denna länk. \nKonserten arrangeras av Folkmusikens hus och är en del av Stämmoveckan.
URL:https://folkmusikenshus.se/event/spelman-med-guldglans/
LOCATION:Nybrokyrkan\, Falun\, Promenaden 35\, Falun\, Dalarna\, 79171
CATEGORIES:Stämmoveckan
ATTACH;FMTTYPE=image/jpeg:https://folkmusikenshus.se/folkmhus/wp-content/uploads/2026/03/guldkonsert.jpg
END:VEVENT
BEGIN:VEVENT
DTSTART;TZID=Europe/Stockholm:20260626T193000
DTEND;TZID=Europe/Stockholm:20260626T223000
DTSTAMP:20260423T130000
CREATED:20260331T230032Z
LAST-MODIFIED:20260401T124841Z
UID:10000179-1782502200-1782513000@folkmusikenshus.se
SUMMARY:Bystugedans i Utanåker med Gålmilla
DESCRIPTION:I Utanåker ligger bystugan med bästa dansgolvet\, säger arrangören i varje fall\, så åk dit och provdansa! Utanåker ligger i södra Rättvik och där finns en stark spelmanstradition med kända spelmän som Höök Olle\, Minu Lars\, Funk Olle\, Funk Anders\, Blånn Olle\, Snygg Olle\, Hjerp Far\, Anders Hjelte\, Werkmäst Hans m.fl.  \n\n\nGålmilla\nFör musiken denna kväll svarar Gålmilla\, en grupp spelmän välförankrade  i traditionen. Gålmilla har spelat ihop sen 1991 och mycket till dans. Jan Gustafsson i Gålmilla berättar att: Gålmilla föddes en fredagkväll i maj-91 när vi fick för oss att gå runt i byn och spela för grannarna. Då sa Svenerik att ’så här gjorde man förr\, innan tv fanns\, man gick gålmilla (mellan gårdar)’ därav namnet. Idag är Gålmilla runt 12 spelmän som träffas både regelbundet och oregelbundet. \n\n\nEntré 150 kr betalas på plats.\nFika finnas att köpa. \n\n\nBystugan är inte så stor så det är bra att vara ute i tid för att vara säker på att få plats. \n\nBystugedansen arrangeras av Utanåkers bystugeförening och är ett evenemang under Stämmoveckan.
URL:https://folkmusikenshus.se/event/bystugedans-i-utanaker/
LOCATION:Utanåker bystuga\, Rättvik\, Sommarbacken 5\, Rättvik\, Dalarna\, 79590
CATEGORIES:Stämmoveckan
ATTACH;FMTTYPE=image/jpeg:https://folkmusikenshus.se/folkmhus/wp-content/uploads/2026/03/utanaker.jpg
END:VEVENT
END:VCALENDAR