BEGIN:VCALENDAR
VERSION:2.0
PRODID:-//Folkmusikens hus - ECPv6.15.17.1//NONSGML v1.0//EN
CALSCALE:GREGORIAN
METHOD:PUBLISH
X-ORIGINAL-URL:https://folkmusikenshus.se
X-WR-CALDESC:Händelser för Folkmusikens hus
REFRESH-INTERVAL;VALUE=DURATION:PT1H
X-Robots-Tag:noindex
X-PUBLISHED-TTL:PT1H
BEGIN:VTIMEZONE
TZID:Europe/Stockholm
BEGIN:DAYLIGHT
TZOFFSETFROM:+0100
TZOFFSETTO:+0200
TZNAME:CEST
DTSTART:20250330T010000
END:DAYLIGHT
BEGIN:STANDARD
TZOFFSETFROM:+0200
TZOFFSETTO:+0100
TZNAME:CET
DTSTART:20251026T010000
END:STANDARD
BEGIN:DAYLIGHT
TZOFFSETFROM:+0100
TZOFFSETTO:+0200
TZNAME:CEST
DTSTART:20260329T010000
END:DAYLIGHT
BEGIN:STANDARD
TZOFFSETFROM:+0200
TZOFFSETTO:+0100
TZNAME:CET
DTSTART:20261025T010000
END:STANDARD
BEGIN:DAYLIGHT
TZOFFSETFROM:+0100
TZOFFSETTO:+0200
TZNAME:CEST
DTSTART:20270328T010000
END:DAYLIGHT
BEGIN:STANDARD
TZOFFSETFROM:+0200
TZOFFSETTO:+0100
TZNAME:CET
DTSTART:20271031T010000
END:STANDARD
END:VTIMEZONE
BEGIN:VEVENT
DTSTART;TZID=Europe/Stockholm:20260422T190000
DTEND;TZID=Europe/Stockholm:20260422T210000
DTSTAMP:20260422T151225
CREATED:20260115T153513Z
LAST-MODIFIED:20260119T143633Z
UID:10000115-1776884400-1776891600@folkmusikenshus.se
SUMMARY:Far & Dotter
DESCRIPTION:Anna and Ale Möller – Två generationer A. Möller bjuder på favoriter ur låtrepertoaren! Inte minst en drös både spelade och ospelade Möller-låtar hörs denna kväll när familjeduon sömlöst rör sig mellan stilar\, stämningar och ljudvärldar. Ett bokstavligen livslångt samspel som är personligt\, dynamiskt\, kärleksfullt och svängigt. \nAnna Möller är folkmusiker och violinist. Hon är en flitig utforskare av musik från olika delar av världen och är idag en självklar del av den nyskapande och samtida folkmusikscenen\, där hon med nyfikenhet och skaparlust titt som tätt dyker upp i nya konstellationer och sammanhang som inkluderar scenkonst\, teater\, komposition och konserter och samarbeten med artister som Ebo Krdum\, Sara Parkman\, Ale Möller och Lena Willemark för att nämna några. Anna är också en av de drivande krafterna bakom skivbolaget Supertraditional\, inom vilket hon 2021 debuterade som producent med Ebo Krdums Grammis-prisade album Diversity. \nFå har väl så självklart som Ale Möller kommit att förknippas med utvecklandet av den nutida skandinaviska folk- och världsmusiken. I nära fyra decennier har han varit en drivande centralgestalt i sökandet efter nya vägar och uttryck. För sina många banbrytande projekt har han (som enda skandinav) tilldelats den prestigefyllda utmärkelsen ”Folk Alliance Lifetime Achivement Award”\, ett pris som han delar med bland andra Joni Mitchell\, Bob Dylan\, Harry Belafonte och Joan Baez. I rollen som estradör\, musikant\, kompositör\, inspiratör\, professor och pedagog fortsätter Ale Möller att utmana och expandera folkmusikens gränser.\nFoto Peter Bothén \nMer info och köp biljett \nArrangeras av Wasabryggeriets vänner i samarbete med Folkmusikens hus och studieförbundet Bilda.
URL:https://folkmusikenshus.se/event/far-dotter/
LOCATION:Wasabryggeriet\, Borlänge\, Sveagränd 1\, Borlänge\, 78433\, Sweden
CATEGORIES:Konsert
ATTACH;FMTTYPE=image/jpeg:https://folkmusikenshus.se/folkmhus/wp-content/uploads/2025/12/AoA-Moller-72dpi-e1765789131734.jpg
END:VEVENT
BEGIN:VEVENT
DTSTART;TZID=Europe/Stockholm:20260424T173000
DTEND;TZID=Europe/Stockholm:20260424T230000
DTSTAMP:20260422T151225
CREATED:20260220T155841Z
LAST-MODIFIED:20260220T155841Z
UID:10000123-1777051800-1777071600@folkmusikenshus.se
SUMMARY:Folkmusikcafé: Bülows kvartett
DESCRIPTION:Bülows kvartett är ett nytt folkmusikband från Malmö som på slagverk\, kontrabas\, klarinett och fiol skapar ett kraftfullt låtspel med energi och en vilja att bryta ny mark. Med influenser från både progg\, jazz och traditionell nordisk folkmusik tar dom sig an Adam Bülows egen favoritmusik. \nEn särskild fascination för Orsamusiken efter Gössa-Anders finns och märks i repertoaren\, men bland dom gamla orsalåtarns dyker det även upp en del egna kompositioner och andra noga utvalda låtar. Bas och trummor bildar tillsammans ett lyhört och svängigt kompband som lämnar mycket utrymme för klarinetten och fiolens ljusa klanger att mötas i melodi och stämspel. Det dova och djupa blandas med det briljanta ljusa klangerna och skapar en bra förutsättning för att varje musiker ska få utrymme att sätta sin färg på arrangemangen. \nLäs mer \nArrangeras av FaluFolk musik&dans i samarbete med Folkmusikens hus och studieförbundet Bilda.
URL:https://folkmusikenshus.se/event/folkmusikcafe-bulows-kvartett/
LOCATION:Kulturhuset tio14\, Falun\, Teatergatan 5\, Falun\, 791 62\, Sweden
CATEGORIES:Dans,Konsert,Kurs
ATTACH;FMTTYPE=image/jpeg:https://folkmusikenshus.se/folkmhus/wp-content/uploads/2026/02/Bild-1-1-e1771603060663.jpeg
END:VEVENT
BEGIN:VEVENT
DTSTART;TZID=Europe/Stockholm:20260425T160000
DTEND;TZID=Europe/Stockholm:20260425T173000
DTSTAMP:20260422T151225
CREATED:20251118T130357Z
LAST-MODIFIED:20251126T124240Z
UID:10000088-1777132800-1777138200@folkmusikenshus.se
SUMMARY:Södra Bergens Balalaikor i Gagnef
DESCRIPTION:Nu är det dags för det legendariska bandet Södra Bergens Balalaikor att gästa Dalarna och Gagnef!\nMed oöverträffad spelglädje och aldrig sinande nyfikenhet spelar den 25 personer starka orkestern musiken de lånat från Ukraina\, Ryssland\, Sverige och kärleksfullt gjort till sin egen. Med domror\, balalajkor\, flöjter\, skalmejor\, trätrumpeter\, slagverk och dragspel får de taket att lyfta! Orkesterns musiker är både instrumentalister och sångare. Ibland är de en kör och ibland en orkester. Det är ingen ordning alls men bra blir det!\n\nOnumrerade platser\, dörrarna öppnas kl. 15.30.\nEv överblivna biljetter säljs då på plats.\nKonserten arrangeras i samarbete mellan Folkmusikens Hus\, Gagnefs kommun och Svenska Kyrkan\, Gagnefs pastorat.
URL:https://folkmusikenshus.se/event/sodra-bergens-balalaikor-i-gagnef/
LOCATION:Gagnefs kyrka\, Kyrkbyvägen 35\, Gagnef\, 785 30\, Sweden
CATEGORIES:Konsert
ATTACH;FMTTYPE=image/jpeg:https://folkmusikenshus.se/folkmhus/wp-content/uploads/2025/11/Bild-e1763470055520.jpg
END:VEVENT
BEGIN:VEVENT
DTSTART;TZID=Europe/Stockholm:20260426T160000
DTEND;TZID=Europe/Stockholm:20260426T171000
DTSTAMP:20260422T151225
CREATED:20260317T111526Z
LAST-MODIFIED:20260317T111526Z
UID:10000130-1777219200-1777223400@folkmusikenshus.se
SUMMARY:Tre Knas Mä Bas
DESCRIPTION:Välkommen till en härlig konsert med profiler från Iggesundsgänget! \nJanne Krantz på gitarr\, fiol sång och skrönor av alla slag. Anders Larm på bas\, gitarr\, klaviatur\, sång och mm. Med sig har de också Niklas Sundén på dragspel\, en musiker som har turnerat med Richar Wolf 20 år och Povel Ramel mfl. Robert Damberg på gitarr\, fiol\, mandolin\, banjo och sång har spelat med Janne i 10 år startade gruppen Hälsingefyr och kan allt av Iggesundsgänget. \nKöp biljett \nArrangeras av Dans och Folkton i samarbete med Folkmusiken hus och studieförbundet Bilda.
URL:https://folkmusikenshus.se/event/tre-knas-ma-bas/
LOCATION:Smedjebackens Folkets hus\, Vasagatan 11\, Smedjebacken\, Sweden
CATEGORIES:Konsert
ATTACH;FMTTYPE=image/webp:https://folkmusikenshus.se/folkmhus/wp-content/uploads/2026/03/default.jpg-9.webp
END:VEVENT
END:VCALENDAR