BEGIN:VCALENDAR
VERSION:2.0
PRODID:-//Folkmusikens hus - ECPv6.15.17.1//NONSGML v1.0//EN
CALSCALE:GREGORIAN
METHOD:PUBLISH
X-ORIGINAL-URL:https://folkmusikenshus.se
X-WR-CALDESC:Händelser för Folkmusikens hus
REFRESH-INTERVAL;VALUE=DURATION:PT1H
X-Robots-Tag:noindex
X-PUBLISHED-TTL:PT1H
BEGIN:VTIMEZONE
TZID:Europe/Stockholm
BEGIN:DAYLIGHT
TZOFFSETFROM:+0100
TZOFFSETTO:+0200
TZNAME:CEST
DTSTART:20250330T010000
END:DAYLIGHT
BEGIN:STANDARD
TZOFFSETFROM:+0200
TZOFFSETTO:+0100
TZNAME:CET
DTSTART:20251026T010000
END:STANDARD
BEGIN:DAYLIGHT
TZOFFSETFROM:+0100
TZOFFSETTO:+0200
TZNAME:CEST
DTSTART:20260329T010000
END:DAYLIGHT
BEGIN:STANDARD
TZOFFSETFROM:+0200
TZOFFSETTO:+0100
TZNAME:CET
DTSTART:20261025T010000
END:STANDARD
BEGIN:DAYLIGHT
TZOFFSETFROM:+0100
TZOFFSETTO:+0200
TZNAME:CEST
DTSTART:20270328T010000
END:DAYLIGHT
BEGIN:STANDARD
TZOFFSETFROM:+0200
TZOFFSETTO:+0100
TZNAME:CET
DTSTART:20271031T010000
END:STANDARD
END:VTIMEZONE
BEGIN:VEVENT
DTSTART;TZID=Europe/Stockholm:20260629T093000
DTEND;TZID=Europe/Stockholm:20260629T120000
DTSTAMP:20260422T153633
CREATED:20260331T230026Z
LAST-MODIFIED:20260324T103720Z
UID:10000140-1782725400-1782734400@folkmusikenshus.se
SUMMARY:Låtkurs med Amy Håkansson på Tobaksspinnarstämman
DESCRIPTION:Låtkurs med Amy Håkansson\nLåtar efter Sväs Anders\, från Evertsberg\nUnder kursen kommer Amy att lära ut några låtar efter spilåpipa-spelmanen Sväs Anders Ersson från Evertsberg\, med fokus på dansant spel och hur man kan tolka låtar på olika instrument. Alla melodiinstrument är välkomna\, Amy kommer att undervisa på kontrabasharpa och fiol\, och utlärning sker på gehör.\nSamling 09:00 i Ordenshuset för kursanmälan och registrering. Vi bjuder på morgonfika och bullar! \nAmy Håkansson\nAmy Hakanson är riksspelman på kontrabasharpa (1700-tals nyckelharpa) och spelar även kromatiska nyckelharpa och fiol. Hon har spelat och undervisat mycket först i sitt hemland i USA\, och nu i Sverige. Under flera år har Amy fördjupat sig i musik och dans från Västerdalarna\, med ett särskilt intresse för låtar från Evertsberg\, Särna och Malung. Under sin masterutbildning på Kungliga musikhögskolan har hon utforskat hur man kan spela denna repertoar på kontrabasharpa på ett dansant och svängigt sätt med grund i traditionen. \nPraktisk information om Tobaksspinnarstämmans kurser\nKursanmälan via förköp är möjligt fram till  fredagen den 26 juni kl. 10.00. I mån av plats kommer det också finnas möjlighet att anmäla sig under stämman men vill du vara säker på att få en plats bör du anmäla dig i förväg.\nMax 40 deltagare på danskurserna och max 30 deltagare på spel- och sång-kurserna. \n \n  \nKursen arrangeras av Tobaksspinnarstämman i samarbete med Folkmusikens hus\noch är ett evenemang i Stämmoveckan.
URL:https://folkmusikenshus.se/event/latkurs-med-amy-hakansson-pa-tobaksspinnarstamman/
LOCATION:Ordenshuset\, Nås\, Nås 29\, Nås\, 786 93
CATEGORIES:Kurs,Stämmoveckan
ATTACH;FMTTYPE=image/jpeg:https://folkmusikenshus.se/folkmhus/wp-content/uploads/2026/03/amy.jpg
END:VEVENT
BEGIN:VEVENT
DTSTART;TZID=Europe/Stockholm:20260629T093000
DTEND;TZID=Europe/Stockholm:20260629T120000
DTSTAMP:20260422T153633
CREATED:20260331T231006Z
LAST-MODIFIED:20260324T103259Z
UID:10000139-1782725400-1782734400@folkmusikenshus.se
SUMMARY:Låtkurs med Zara Helje på Tobaksspinnarstämman
DESCRIPTION:Låtkurs med Zara Helje\nLåtar från Transtrand\, efter Omas Per och Karl Gudmundsäter med flera\nSamling 09:00 i Ordenshuset för kursanmälan och registrering. Vi bjuder på morgonfika och bullar! \nZara Helje\nZara Helje\, Lima\, är riksspelman och pedagog\, arbetar som fiollärare på Kulturskolan i Malung-Sälen och som en av ledarna för DUS- Dalarnas ungdomsspelmanslag. Hon är repetitör i Malungs spelmanslag och en av initiativtagarna till Västerdalslaget.\nPå denna kurs kommer Zara att lära ut låtar från Transtrand efter spelmän som Omas Per och Karl Gudmundsäter med flera. \nPraktisk information om Tobaksspinnarstämmans kurser\nKursanmälan via förköp är möjligt fram till  fredagen den 26 juni kl. 10.00. I mån av plats kommer det också finnas möjlighet att anmäla sig under stämman men vill du vara säker på att få en plats bör du anmäla dig i förväg.\nMax 40 deltagare på danskurserna och max 30 deltagare på spel- och sång-kurserna. \n \n\nKursen arrangeras av Tobaksspinnarstämman i samarbete med Folkmusikens hus\noch är ett evenemang i Stämmoveckan.
URL:https://folkmusikenshus.se/event/latkurs-med-zara-helje-pa-tobaksspinnarstamman/
LOCATION:Ordenshuset\, Nås\, Nås 29\, Nås\, 786 93
CATEGORIES:Stämmoveckan
ATTACH;FMTTYPE=image/jpeg:https://folkmusikenshus.se/folkmhus/wp-content/uploads/2026/03/zara.jpg
END:VEVENT
BEGIN:VEVENT
DTSTART;TZID=Europe/Stockholm:20260629T093000
DTEND;TZID=Europe/Stockholm:20260630T123000
DTSTAMP:20260422T153633
CREATED:20260331T231502Z
LAST-MODIFIED:20260402T071908Z
UID:10000087-1782725400-1782822600@folkmusikenshus.se
SUMMARY:Kurs i andrastämmor med Adrian Jones (fördjupning)
DESCRIPTION:Spela andrastämmor med Adrian Jones\, fördjupning på plats i Folkmusikens hus.\n”Hur blir man bra på att spela stämmor?” Den frågan har Adrian fått många gånger. Varje gång har han funderat över hur man egentligen bär sig åt. Kan man öva på det? Finns det konkreta verktyg? Kan man lära sig det av någon? Det är dags att dyka ner i stämspelets värld och prova några användbara tillvägagångssätt. \nKursen syftar till att vidareutveckla dina befintliga stämspelskunskaper\, din medvetenhet och relatera till tonalitet och musikalisk struktur. Det är en kurs i melodiskt stämspel och alla instrument är välkomna. Kursen innehåller analys av spelmansmusik\, tonalitetslära\, konkreta övningar och feedback från lärare och kurskamrater. Kursen ger verktyg för att ytterligare variera ditt stämspel och kombinera olika tekniker. Ambitionen är att skapa en avslappnad kreativ miljö full av nyfikenhet och experimentlusta. \nDenna kurs vänder sig till dig som har spelat ett tag och har god erfarenhet inom spelmansmusik och låtspel. Kursen är på fördjupningsnivå – du bör redan ha en grund inom stämspel. Du kanske redan spelar en hel del stämmor men vill ta steget vidare och utveckla samt variera ditt stämspel. Du kanske har gått Adrians grundkurs någon gång\, känner att färdigheterna börjar landa och det är dags för fler utmaningar. \nMåndag 29 juni 2026 kl 9:30-16:15 och tisdag 30 juni kl 9:30-12.30 under Stämmoveckan i Folkmusikens hus. \nKursen arrangeras av Folkmusikens hus och är ett evenemang i Stämmoveckan.
URL:https://folkmusikenshus.se/event/spela-andrastammor-med-adrian-jones-fordjupning/
LOCATION:Folkmusikens hus\, Rättvik\, Dalagatan 7\, Rättvik\, Sweden
CATEGORIES:Stämmoveckan
ATTACH;FMTTYPE=image/jpeg:https://folkmusikenshus.se/folkmhus/wp-content/uploads/2025/11/adrian.jpg
END:VEVENT
BEGIN:VEVENT
DTSTART;TZID=Europe/Stockholm:20260629T093000
DTEND;TZID=Europe/Stockholm:20260630T140000
DTSTAMP:20260422T153633
CREATED:20260331T231044Z
LAST-MODIFIED:20260401T131436Z
UID:10000146-1782725400-1782828000@folkmusikenshus.se
SUMMARY:Låtkurs med Ola Bäckström
DESCRIPTION:Låtkurs i Ore- och Bingsjöspel — stil\, uttryck och teknik.\nUpptäck kärnan i Dalarna\, en kurs för dig som vill fördjupa ditt spel i Ore- och Bingsjötraditionen. Under ledning av Ola fokuserar vi på: \n\nLåtspel och repertoar\nStil och uttryck: hur du hittar rätt frasering och själ i musiken\nOrnamentik och teknik: detaljerna som förvandlar en bra låt till en stor tolkning\nMöjlig utflykt till spelplatser och miljöer som format musiken\n\n  \nDu behöver behärska ditt instrument och kunna hänga med på gehörsutlärning.\nFör dig som vill utveckla både repertoar och personlig stil i en levande tradition. \nOla Bäckström — en av Sveriges mest eftertraktade fiolspelmän\, djupt rotad i Dalarnas rika folkmusiktradition. Känd för sina mästerliga Orelåtar och flera hyllade soloskivor\, och ofta hörd i samspel med spelmän som Päckos Gustaf och Per Gudmundsson. Ola var också med och drev fram den nya vågen av ensemblespel i svensk folkmusik från 1980-talet och har spelat med grupper som Den Fule\, Swåp och Boot. \nBegränsat antal platser (25 styck). \nÅterbud\nÅterbud kan lämnas senast två veckor före kursstart till kontakt@folkmusikenshus.se.\nVid återbetalningen dras en avgift på 200 kr (vuxen) eller 100 kr (barn).\nVid sjukdom återbetalas hela kursavgiften vid uppvisande av läkarintyg. \n  \nKursen arrangeras av Folkmusikens hus och är ett evenemang i Stämmoveckan. \n \n 
URL:https://folkmusikenshus.se/event/latkurs-med-ola-backstrom/
LOCATION:Folkmusikens hus\, Rättvik\, Dalagatan 7\, Rättvik\, Sweden
CATEGORIES:Stämmoveckan
ATTACH;FMTTYPE=image/jpeg:https://folkmusikenshus.se/folkmhus/wp-content/uploads/2026/03/ola.jpg
END:VEVENT
BEGIN:VEVENT
DTSTART;TZID=Europe/Stockholm:20260629T130000
DTEND;TZID=Europe/Stockholm:20260629T153000
DTSTAMP:20260422T153633
CREATED:20260331T230000Z
LAST-MODIFIED:20260324T104211Z
UID:10000142-1782738000-1782747000@folkmusikenshus.se
SUMMARY:Viskurs med Agneta Stolpe på Tobaksspinnarstämman
DESCRIPTION:Viskurs med Agneta Stolpe\nAtt skapa driv\, sväng och variation i trallen\nPå kursen undersöker vi rösten som instrument och hur dess rörlighet och ljud kan skapa driv\, sväng och variation i trallen. Kursen välkomnar både dig som trallat förr och dig som är nyfiken att prova hur du med andning\, toner\, stavelser och utsmyckningar kan ge trallen liv. Några låtar från Västerdalarna får du på köpet.\nSamling 09:00 i Ordenshuset för kursanmälan och registrering. Vi bjuder på morgonfika och bullar! \nAgneta Stolpe\nAgneta Stolpe\, vokal folkmusiker från Äppelbo med trall\, visor och vallmusik i bagaget. Välkänd från konserter\, skivor\, kurser\, folkhögskolor och högskolor\, ledamot i Kungl. Musikaliska Akademien\, jurymedlem i Zornmärkesjuryn och ordförande i Dalarnas Spelmansförbund. \nPraktisk information om Tobaksspinnarstämmans kurser\nKursanmälan via förköp är möjligt fram till  fredagen den 26 juni kl. 10.00. I mån av plats kommer det också finnas möjlighet att anmäla sig under stämman men vill du vara säker på att få en plats bör du anmäla dig i förväg.\nMax 40 deltagare på danskurserna och max 30 deltagare på spel- och sång-kurserna. \n \n\nKursen arrangeras av Tobaksspinnarstämman i samarbete med Folkmusikens hus\noch är ett evenemang i Stämmoveckan.
URL:https://folkmusikenshus.se/event/latkurs-med-agneta-stolpe-pa-tobaksspinnarstamman/
LOCATION:Ordenshuset\, Nås\, Nås 29\, Nås\, 786 93
CATEGORIES:Stämmoveckan
ATTACH;FMTTYPE=image/jpeg:https://folkmusikenshus.se/folkmhus/wp-content/uploads/2026/03/agneta.jpg
END:VEVENT
BEGIN:VEVENT
DTSTART;TZID=Europe/Stockholm:20260629T130000
DTEND;TZID=Europe/Stockholm:20260629T153000
DTSTAMP:20260422T153633
CREATED:20260331T231031Z
LAST-MODIFIED:20260324T104612Z
UID:10000141-1782738000-1782747000@folkmusikenshus.se
SUMMARY:Låtkurs med Matts Arnberg på Tobaksspinnarstämman
DESCRIPTION:Låtkurs med Matts Arnberg\nStryk ätter – att kompa på Flodavis\nSamling 09:00 i Ordenshuset för kursanmälan och registrering. Vi bjuder på morgonfika och bullar! \nMatts Arnberg\nMatts Arnberg är född och uppvuxen i Dala-Floda. Han började tidigt dansa i Floda folkdansgille men hittade sin farfars fiol i ett härbrä och började spela istället. Blev riksspelman och utbildade sig till professionell violinist\, nu pensionerad från Kungliga filharmonikerna i Stockholm efter närmare 40 år. I början av 70-talet spelade han mycket med bröderna Sven och Sören Roos samt Lars Hökpers. De hade förmånen att få spela med bröderna Tillman och tillägnade sig deras tradition som de i sin tur lärt av fadern\, storspelmannen Olof Tillman.  Matts intresserade sig för stämspel och sekundering\, ett ackompanjemangspel som var vanligt i början av seklet men som då nästan bara utövades av Tillmännen. Framförallt Nils var en mästare ”tä stryk ätter” som Tillmännen själva uttryckte det. Matts har även  undervisat i violinspel\, folkmusik och stråkensemble vid musikskolan Lilla Akademien i Stockholm \nPraktisk information om Tobaksspinnarstämmans kurser\nKursanmälan via förköp är möjligt fram till  fredagen den 26 juni kl. 10.00. I mån av plats kommer det också finnas möjlighet att anmäla sig under stämman men vill du vara säker på att få en plats bör du anmäla dig i förväg.\nMax 40 deltagare på danskurserna och max 30 deltagare på spel- och sång-kurserna. \n \n\nKursen arrangeras av Tobaksspinnarstämman i samarbete med Folkmusikens hus\noch är ett evenemang i Stämmoveckan.
URL:https://folkmusikenshus.se/event/latkurs-med-matts-arnberg-pa-tobaksspinnarstamman/
LOCATION:Ordenshuset\, Nås\, Nås 29\, Nås\, 786 93
CATEGORIES:Stämmoveckan
ATTACH;FMTTYPE=image/jpeg:https://folkmusikenshus.se/folkmhus/wp-content/uploads/2026/03/arnberg.jpg
END:VEVENT
BEGIN:VEVENT
DTSTART;TZID=Europe/Stockholm:20260629T150000
DTEND;TZID=Europe/Stockholm:20260629T160000
DTSTAMP:20260422T153633
CREATED:20260331T230012Z
LAST-MODIFIED:20260331T095534Z
UID:10000187-1782745200-1782748800@folkmusikenshus.se
SUMMARY:Vernissage: Dalarnas Lussibrud - klädd i tradition
DESCRIPTION:Folkmusikens hus presenterar stolt årets sommarutställning i konsertsalen: \nDalarnas Lussibrud – klädd i tradition\nI kalla lucianätter för drygt 160 år sedan vandrade ett luciatåg från gård till gård i Malung. De sjöng jul- och lussivisor och deras klädedräkt var liksom ett vanligt brudfölje på den tiden. En lussibrud\, brudpigor\, brudsvenner och spelmän. Idag har Lussi från Malung fått sällskap av brudpigor\, brudsvenner och spelmän från Floda\, Mora\, Rättvik och Leksand. \nI ett par vintrar har vi fått lyssna till och njuta av färgprakten\, tonmagin och stämningen när Dalarnas Lussibrud framträtt med sina föreställningar runt om i Dalarna. Gensvaret från publiken har varit enorm och varenda föreställning har varit fullsatt. \nMycket glädjande kan Folkmusikens hus i sommar erbjuda en utställning med dräkterna och berättelserna från Dalarnas Lussibrud. Här får man möjlighet att ta en närmre titt på dräkterna\, detaljerna\, hantverket och färgerna! Kanske är utställningen den största dräktutställningen i Dalarna just nu med högtidsdräkter från fem olika socknar. För den som älskar julmusik i allmänhet och Lussibruds musik i synnerhet och väntar på att få köpa med sig musiken på en CD\, kan vi tipsa om att detta är på gång till vinterns föreställningar. Ni som besöker utställningen har självklart möjlighet att förbeställa en CD! \n15.00 Invigning\, tal och musik\n15.15 Välkomna in och titta på utställningen\n15.40 Täpp Lars Arnesson\, Anna-Karin Jobs Arnberg och Maria Sjögren berättar om uppkomsten av Dalarnas Lussibrud \nKlockan 16.00 stänger utställningsrummet och förbereds för konsert med Ähdel Sjögren Trio – musikerna bakom musiken\, arrangemangen och kompositionerna i Dalarnas Lussibrud. På konserten spelar de sin egen musik med inslag av Dalarnas Lussibrud (ingen Lussikör). Läs mer om konserten och köp biljett via denna länk. \n  \nVernissagen arrangeras av Folkmusikens hus och är en del av Stämmoveckan.
URL:https://folkmusikenshus.se/event/vernissage-dalarnas-lussibrud-kladd-i-tradition/
LOCATION:Folkmusikens hus\, Rättvik\, Dalagatan 7\, Rättvik\, Sweden
CATEGORIES:Stämmoveckan
ATTACH;FMTTYPE=image/jpeg:https://folkmusikenshus.se/folkmhus/wp-content/uploads/2026/04/lussibrud.jpg
END:VEVENT
BEGIN:VEVENT
DTSTART;TZID=Europe/Stockholm:20260629T163000
DTEND;TZID=Europe/Stockholm:20260629T173000
DTSTAMP:20260422T153633
CREATED:20260331T230048Z
LAST-MODIFIED:20260327T101715Z
UID:10000149-1782750600-1782754200@folkmusikenshus.se
SUMMARY:Ähdel Sjögren Trio
DESCRIPTION:Följ med Ähdel Sjögren Trio i sprudlande musikglädje med mustiga arrangemang och snirkliga harmonier. I en skog av stråkinstrument\, tramporgel och sång får du lyssna till allt från innerliga visor\, klangfulla brudmarscher och dansglada springlekar. Trion består av Maria Ähdel\, Maria Sjögren och Grop Mikael Sjögren. Det är också den här trion som är musikansvariga och arrangangerar musiken i den välrenommerade föreställningen ”Dalarnas Lussibrud”. \nMaria Ähdel är sångerska från Äppelbo med förkärlek för stämsång. Har sjungit olika genrer genom åren men på senare tid har det blivit mest folkmusik och då en stark rot finns i Malung sjunger hon gärna ur den traditionen\, både visor\, vallåtar och koraler.  Genom åren har det blivit mycket körverksamhet\, som korist och dirigent för olika typer av körer samt en hel del körarrangemangsskrivande\, senast för folkliga lucia-projektet ”Dalarnas Lussibrud”\, där hon har musikansvaret för kören.  Typiskt för Maria Ähdel sedan unga år är en komp-position bakom pianot eller sedermera tramporgel\, sjungandes en stämma. I gruppen Ähdel Sjögren Trio blir det dock även lite solosång. Till vardags är hon virkesredovisare men på fritiden blir det idel olika musikprojekt och uppdrag på sång och komp\, främst inom folkmusik som kommit att bli en stor del av livet. \nMaria Sjögren är riksspelman från Leksand. Maria fastnade omedelbart av tonen och känslan i folkmusiken. Med Kungs Levi Nilsson som lärare fick hon sin starka grund i Leksandstraditionen. Senare träffade Maria Östbjörkaspelmannen Pers Hans Olsson. Lektioner ledde till samspel och konserter och många besök hos olika Rättviksspelmän. Det blev fascinerande spelmansmöten och fördjupning i traditionen. Maria har medverkat i många musiksammanhang genom åren. Från den första folkmusikgruppen i Leksand till trion Krackel Kapell och just nu som musikansvarig för spelmännen i föreställningen ”Dalarnas Lussibrud”. Maria hörs ofta i tätt duospel på konserter och i spel till dans och sist men inte minst i den aktuella Ähdel Sjögren Trio där Maria spelar femsträngad fiol\, violino  d’amore och hardingfela. På övrig tid handlar Marias arbete om att coacha andra musiker inom fysisk och mental hälsa. Ett jobb som Maria brinner för precis som låtspelet och folkmusiken! \nGrop Mikael Sjögren är riksspelman från Malung. Det var alltid musik hemma i huset i Tällbyn. Det blev spel tillsammans med bröderna och redan som 10-åring började Mikael i spelmanslaget. Den första riktiga folkmusikkicken var när kusinen Bengt Malmén och Olle Almlöf spelade tillsammans. De hade en sån musikalisk energi och glöd på ett kalas hemma i byn. En annan stark upplevelse var när Mikael som 12-åring fick följa med spelmannen och trollkonstnären Wille Thors på turné till alla skolor i Malung. Wille trollade och Mikael spelade fiol. Till vardags är Mikael spelar Mikael viola i Kungliga filharmonikerna och landar till hösten som stämledare i Dalasinfoniettan. Mikael är även kompositör och arrangör av musik i olika genrer med förkärlek för musik där folktonen finns med. Som spelman är han en sann improvisatör och stämspelare. Det finns alltid spännande harmonier som överraskar både honom själv och lyssnaren. Vinterns projekt har förutom Ähdel Sjögren Trio varit att som kompositör\, arrangör och spelman medverka i Dalarnas Lussibrud. I Ähdel Sjögren Trio spelar Mikael hardingfiol\, altfiol och 6-strängad viola d’amore. \nKonserten arrangeras av Folkmusikens hus och är en del av Stämmoveckan.
URL:https://folkmusikenshus.se/event/ahdel-sjogren-trio/
LOCATION:Folkmusikens hus\, Rättvik\, Dalagatan 7\, Rättvik\, Sweden
CATEGORIES:Stämmoveckan
ATTACH;FMTTYPE=image/jpeg:https://folkmusikenshus.se/folkmhus/wp-content/uploads/2026/03/ahdelsjogrentrio.jpg
END:VEVENT
BEGIN:VEVENT
DTSTART;TZID=Europe/Stockholm:20260629T180000
DTEND;TZID=Europe/Stockholm:20260629T220000
DTSTAMP:20260422T153633
CREATED:20260331T230048Z
LAST-MODIFIED:20260331T054222Z
UID:10000181-1782756000-1782770400@folkmusikenshus.se
SUMMARY:Bystugedans i Finnbacka med Svärdsjö spelmanslag
DESCRIPTION:Svärdsjö Spelmanslag bjuder upp till dans i Finnbacka bystuga i Rättvik. De bjuder på stadiga låtar i äkta Svärdsjötakt. Ca 30 spelmän med fioler\, harpor\, bas\, gitarrer\, munspel och klarinetter kommer att finnas på scenen. Räkna dessutom med att de mitt i dansen kan brista ut i sång. \nFrån klockan 18.00 bjuder Ockôn sôm Helst-orkester på lagom galen underhållning med allsång\, visor och trivsamma kupletter.\nDansen börjar klockan 19.00. Laget spelar tills bystugans fönster immat igen. Dock längst till klockan 22.00. \nEntré 150 kr betalas på plats. (swish eller kontanter) \nParkeringsplatser finns utanför bystugan.\nMedtag eget fika. \nBystugedansen arrangeras av Svärdsjö spelmanslag och är ett evenemang under Stämmoveckan.
URL:https://folkmusikenshus.se/event/bystugedans-i-finnbacka-med-svardsjo-spelmanslag/
LOCATION:Finnbacka bystuga\, Rättvik\, Finnbacka byväg 39\, Enviken\, 790 26
CATEGORIES:Stämmoveckan
ATTACH;FMTTYPE=image/jpeg:https://folkmusikenshus.se/folkmhus/wp-content/uploads/2026/03/svardsjospelmanslag.jpg
END:VEVENT
BEGIN:VEVENT
DTSTART;TZID=Europe/Stockholm:20260629T183000
DTEND;TZID=Europe/Stockholm:20260629T233000
DTSTAMP:20260422T153633
CREATED:20260331T231510Z
LAST-MODIFIED:20260330T190057Z
UID:10000172-1782757800-1782775800@folkmusikenshus.se
SUMMARY:Tobaksspinnarstämman 2026 - måndag
DESCRIPTION:Tobaksspinnarstämman är mötesplatsen för alla vänner av västerdalsmusik och kallas ibland ”Lilla Ransäter”. Gemytligt\, intimt och massor av bra musik och dans! Som vanligt blir det kurser\, konserter\, kolbullar\, danskvällar och visstuga! Det blir också skivsläpp med Anders Rosén och Jonas Åkerlund. Trots den västsvensk profilen kan stämman i år stolt hälsa en storspelman från Småland välkommen som lärare: Pelle Björnlert! Alla de 13 kurserna presenteras var för sig på hemsidan. \nMåndag 29/6\n16:00 Konsert i Ordenshuset: William med vänner\n18:00 Allspel med låtar längs Västerdalälven.\n19:00 Dans till spelmanslag\, spellista\, servering\, kolbullar\, buskspel.\n20:00 Visstuga i Nåsgården: Linnea med vänner \n  \nTobaksspinnarstämmans måndagskväll i Nås arrangeras av Västerdalslaget och är ett evenemang i Stämmoveckan. \n \n  \n 
URL:https://folkmusikenshus.se/event/tobaksspinnarstamman-2026-mandag/
LOCATION:Ordenshuset\, Nås\, Nås 29\, Nås\, 786 93
CATEGORIES:Stämmoveckan
ATTACH;FMTTYPE=image/jpeg:https://folkmusikenshus.se/folkmhus/wp-content/uploads/2026/03/tobaksspinnarstamman.jpg
END:VEVENT
BEGIN:VEVENT
DTSTART;TZID=Europe/Stockholm:20260629T183000
DTEND;TZID=Europe/Stockholm:20260629T235900
DTSTAMP:20260422T153633
CREATED:20260331T230023Z
LAST-MODIFIED:20260401T095649Z
UID:10000182-1782757800-1782777540@folkmusikenshus.se
SUMMARY:Bystugedans i Västberg
DESCRIPTION:Välkommen till Västberg och en helkväll med bystugedans. \n18.30 Dansintroduktion med Geine och Hasse.\n20.00-24.00. Dans till delar av Boda mollkapell samt spelmansduon Anders Almlöf och Gustaf Melén. \nEntré 150 kr\, betalas på plats. \nFörsäljning av fika. Om vädret är bra hoppas vi på dans både inne och ute. Ni som spelar: Välkomna att spela upp till dans på utedansbanan. Skriv upp den tid du vill spela när du är på plats (om vädret tillåter). \nBystugedansen arrangeras av Västbergs byaförening och är ett evenemang under Stämmoveckan.
URL:https://folkmusikenshus.se/event/bystugedans-i-vastberg/
LOCATION:Västbergs bystuga\, Rättvik\, Västbergs bygatu 35\, Rättvik\, Dalarna\, 79591
CATEGORIES:Stämmoveckan
ATTACH;FMTTYPE=image/jpeg:https://folkmusikenshus.se/folkmhus/wp-content/uploads/2026/04/bodamoll.jpg
END:VEVENT
END:VCALENDAR