BEGIN:VCALENDAR
VERSION:2.0
PRODID:-//Folkmusikens hus - ECPv6.15.17.1//NONSGML v1.0//EN
CALSCALE:GREGORIAN
METHOD:PUBLISH
X-WR-CALNAME:Folkmusikens hus
X-ORIGINAL-URL:https://folkmusikenshus.se
X-WR-CALDESC:Händelser för Folkmusikens hus
REFRESH-INTERVAL;VALUE=DURATION:PT1H
X-Robots-Tag:noindex
X-PUBLISHED-TTL:PT1H
BEGIN:VTIMEZONE
TZID:Europe/Stockholm
BEGIN:DAYLIGHT
TZOFFSETFROM:+0100
TZOFFSETTO:+0200
TZNAME:CEST
DTSTART:20250330T010000
END:DAYLIGHT
BEGIN:STANDARD
TZOFFSETFROM:+0200
TZOFFSETTO:+0100
TZNAME:CET
DTSTART:20251026T010000
END:STANDARD
BEGIN:DAYLIGHT
TZOFFSETFROM:+0100
TZOFFSETTO:+0200
TZNAME:CEST
DTSTART:20260329T010000
END:DAYLIGHT
BEGIN:STANDARD
TZOFFSETFROM:+0200
TZOFFSETTO:+0100
TZNAME:CET
DTSTART:20261025T010000
END:STANDARD
BEGIN:DAYLIGHT
TZOFFSETFROM:+0100
TZOFFSETTO:+0200
TZNAME:CEST
DTSTART:20270328T010000
END:DAYLIGHT
BEGIN:STANDARD
TZOFFSETFROM:+0200
TZOFFSETTO:+0100
TZNAME:CET
DTSTART:20271031T010000
END:STANDARD
END:VTIMEZONE
BEGIN:VEVENT
DTSTART;TZID=Europe/Stockholm:20260626T093000
DTEND;TZID=Europe/Stockholm:20260627T180000
DTSTAMP:20260422T153357
CREATED:20260331T232540Z
LAST-MODIFIED:20260401T124155Z
UID:10000154-1782466200-1782583200@folkmusikenshus.se
SUMMARY:Leksands Musikverkstad 2026
DESCRIPTION:Två dagar – glädjefyllda\, sprudlande och fulla av musik. Välkommen till kursen där alla instrument är välkomna att spela folkrock med Hoven Droven på Leksands vackra Hembygdsgårdar. \nKursen pågår från fredag morgon och avslutas i samband med Leksands spelmansstämma mot kvällningen på lördagen. I kursavgiften ingår fika men var och en fixar sin lunch själv på den väl tilltagna lunchrasten. \nTillsammans med medlemmarna i Hoven Droven så finns pedagoger med en blandning av huvudinstrument som kan stötta deltagarna\, oavsett instrument. \nKursen riktar sig i första hand till åldrarna 10-16 år men undantag kan göras efter kontakt. Efter anmälan får du ett frågeformulär där du kan fylla i lite uppgifter om deltagaren. För att deltagarna ska hänga med i undervisningen ska de ha kommit en liten bit i sitt spel och kunna ta hand om sitt instrument själv. Om ni är osäkra på om kursen är rätt för er – kontakta Jon Holmén på Folkmusikens hus. \nKursen arrangeras av Folkmusikens hus i samarbete med Dalarnas Spelmansförbund och studieförbundet Bilda och är en del av Stämmoveckan.
URL:https://folkmusikenshus.se/event/leksands-musikverkstad-2026/
LOCATION:Hembygdsgårdarna\, Leksand\, Kyrkallén 13\, Leksand\, 793 31\, Sweden
CATEGORIES:Stämmoveckan
ATTACH;FMTTYPE=image/jpeg:https://folkmusikenshus.se/folkmhus/wp-content/uploads/2026/03/musikverkstan.jpg
END:VEVENT
BEGIN:VEVENT
DTSTART;TZID=Europe/Stockholm:20260627T093000
DTEND;TZID=Europe/Stockholm:20260627T120000
DTSTAMP:20260422T153357
CREATED:20260331T230639Z
LAST-MODIFIED:20260401T125409Z
UID:10000135-1782552600-1782561600@folkmusikenshus.se
SUMMARY:Danskurs (grundkurs) med Perjos Lars på Tobaksspinnarstämman
DESCRIPTION:Danskurs med Perjos Lars – De grundläggande stegen.\nDanser längs Västerdalälven: Runddans\, bakmes och tröing. \nRunddans\, bakmes och tröing –  det är de tre grundläggande dansformerna i Västerdalarna. Perjos Lars kommer att lära ut dessa danser och visa hur de passar till de olika låttyper som finns längs dalgången. Men kursen ska bygga på lust\, slår Perjos Lars fast. Det måste vara roligt att dansa!  Kursen kommer därför också att innehålla mer lekfulla och improvisatoriska övningar\, där grundstegen snarare blir ett avstamp än ett slutligt mål. Under förmiddagen går Perjos Lars igenom grunderna i dansen\, för att under eftermiddagen fördjupa kunskaperna. Mattias Helje spelar till dansutlärningen. \nSamling 09:00 i Ordenshuset för kursanmälan och registrering. Vi bjuder på morgonfika och bullar! \nPerjos Lars\nPerjos Lars har spelmansmusiken med sig i blodet från sin morfar\, som var en känd Limaspelman. Lars bor i Lima\, där han under driver ett mindre jordbruk med säterdrift. Han har under årens lopp lett mängder av kurser i dans\, sång och låtspel. \nPraktisk information om Tobaksspinnarstämmans kurser\nKursanmälan via förköp är möjligt fram till  fredagen den 26 juni kl. 10.00. I mån av plats kommer det också finnas möjlighet att anmäla sig under stämman men vill du vara säker på att få en plats bör du anmäla dig i förväg.\nMax 40 deltagare på danskurserna och max 30 deltagare på spel- och sång-kurserna. \n \n  \nKursen arrangeras av Tobaksspinnarstämman i samarbete med Folkmusikens hus\noch är ett evenemang i Stämmoveckan.
URL:https://folkmusikenshus.se/event/danskurs-grund-med-perjos-lars-pa-tobaksspinnarstamman/
LOCATION:Ordenshuset\, Nås\, Nås 29\, Nås\, 786 93
CATEGORIES:Stämmoveckan
ATTACH;FMTTYPE=image/jpeg:https://folkmusikenshus.se/folkmhus/wp-content/uploads/2026/03/perjos_lars.jpg
END:VEVENT
BEGIN:VEVENT
DTSTART;TZID=Europe/Stockholm:20260627T093000
DTEND;TZID=Europe/Stockholm:20260627T120000
DTSTAMP:20260422T153357
CREATED:20260331T231025Z
LAST-MODIFIED:20260401T135931Z
UID:10000163-1782552600-1782561600@folkmusikenshus.se
SUMMARY:Skog av toner
DESCRIPTION:Följ med vallkullan Kersti på hennes musikaliska upptäcktsfärd på fäboden\, den plats som sommartid var både hennes hem och arbetsplats. På fäboden fanns också kossor\, höns\, getter och björn och kanske också annat folk som levde bland mossor och stenar … och där fanns instrument som mungiga\, sälgflöjt\, moraharpa och kohorn. Följ med långt bort i en skog av toner! \nEfter föreställningen får alla prova på att spela mungiga. ’Skog av toner’ är skapad av Daniela Söderlund på uppdrag av Folkmusikens hus i Rättvik. \nFöreställningen spelas 9.30 och 11.00. \nOBS! Begränsat antal platser. \nFamiljeföreställningen arrangeras av Alfvéngården och är ett program under Stämmoveckan.  \n \n 
URL:https://folkmusikenshus.se/event/skog-av-toner/
LOCATION:Alfvéngården\, Leksand\, Tibble Pipargattu 21\, Leksand\, 79336
CATEGORIES:Stämmoveckan
ATTACH;FMTTYPE=image/jpeg:https://folkmusikenshus.se/folkmhus/wp-content/uploads/2026/03/skogavtoner2.jpg
END:VEVENT
BEGIN:VEVENT
DTSTART;TZID=Europe/Stockholm:20260627T093000
DTEND;TZID=Europe/Stockholm:20260627T120000
DTSTAMP:20260422T153357
CREATED:20260331T231032Z
LAST-MODIFIED:20260324T095243Z
UID:10000133-1782552600-1782561600@folkmusikenshus.se
SUMMARY:Låtkurs med Jonas Åkerlund på Tobaksspinnarstämman
DESCRIPTION:Låtkurs med Jonas Åkerlund\nLördagsorkestern: svängiga och vackra låtar från västra Dalarna.\nSamling 09:00 i Ordenshuset för kursanmälan och registrering. Vi bjuder på morgonfika och bullar! \nJonas Åkerlund\nJonas leder spelkursen på lördag förmiddag. Repertoaren blir vackra och dansvänliga låtar från Västerdalarna. Vi arbetar med låtarnas karaktär\, stråkmönster och rytmiska finesser. Till kvällen formar vi ett kapell tillsammans med deltagarna från Mattias Heljes kurs\, som spelar till dansen på det legendariska dansgolvet i Ordenshuset. Det går att enbart vara med på Jonas kurs på förmiddagen eller Mattias kurs på eftermiddagen\, men det blir roligast att vara med hela dagen. Då blir också dansspelet bättre! \nBåde Jonas och Mattias är vana pedagoger och undervisar på många olika nivåer samtidigt. De har en nära och personlig relation till musiken härifrån och deltar på många skivutgivningar. De kommer att undervisa utifrån fiolen\, men även andra instrument är välkomna att delta. \nPraktisk information om Tobaksspinnarstämmans kurser\nKursanmälan via förköp är möjligt fram till  fredagen den 26 juni kl. 10.00. I mån av plats kommer det också finnas möjlighet att anmäla sig under stämman men vill du vara säker på att få en plats bör du anmäla dig i förväg.\nMax 40 deltagare på danskurserna och max 30 deltagare på spel- och sång-kurserna. \n \n\nKursen arrangeras av Tobaksspinnarstämman i samarbete med Folkmusikens hus\noch är ett evenemang i Stämmoveckan.
URL:https://folkmusikenshus.se/event/latkurs-med-jonas-akerlund-pa-tobaksspinnarstamman/
LOCATION:Ordenshuset\, Nås\, Nås 29\, Nås\, 786 93
CATEGORIES:Stämmoveckan
ATTACH;FMTTYPE=image/jpeg:https://folkmusikenshus.se/folkmhus/wp-content/uploads/2026/03/akerlund.jpg
END:VEVENT
BEGIN:VEVENT
DTSTART;TZID=Europe/Stockholm:20260627T100000
DTEND;TZID=Europe/Stockholm:20260627T123000
DTSTAMP:20260422T153357
CREATED:20260331T232031Z
LAST-MODIFIED:20260401T130545Z
UID:10000153-1782554400-1782563400@folkmusikenshus.se
SUMMARY:Låtkurs med Ulf Störling
DESCRIPTION:Låtkurs med fokus på Snickar Erik\nKursen kommer att innehålla låtar efter och berättelser om Snickar Erik Olsson – en ”orimligt styv spelman” från Edsbyn i Ovanåker\, Hälsingland. Han förde sitt spel och sina låtar vidare till storheter som Tulpan & Pajas i Alfta och inte minst till sin främste elev\, Jon Erik Öst. Snickar Erik lär också ha komponerat den välkända Slipstenspolskan\, som Öst senare spelade på sina turnéer både i Sverige och utomlands. På äldre dar framhöll Öst att de bästa spelmän han hade hört var just Snickar Erik och Tulpan & Pajas. Även Hjort Anders ansåg\, enligt sin dotterson Nils Agenmark\, att Snickar Erik var en verklig storspelman. \nDe gamla spelmännen i södra Hälsingland hade i mycket en gemensam repertoar\, och att döma av traditionsinspelningar och enstaka uppgifter verkar inte heller deras spelsätt ha skilt sig åt i någon större utsträckning. En viktig samlingspunkt för invånarna i socknarna kring Ovanåker var Knåda marknad\, som hölls mellan 1810 och 1910. Här fanns marknadsgyckel och handel med allt från smör och pälsverk till smidesalster och fioler\, och här möttes spelmännen för att spela till dans och för att spela i kapp. Här knöts också kontakter för framtida samspel. \nUlf Störling\nNär Ulf var tio år flyttade han till Arbrå\, och det var då han började spela spelmansmusik. På helgerna spelade han ofta tillsammans med sin morfar\, som tog fram sin ungdomsrepertoar på dragspel. Efter några år började han intressera sig för den äldre lokala fiolmusiken och försökte – i tidens anda – hitta äldre spelmän\, gärna sådana som inte tillhörde ”vibratoklubben”\, för att komma närmare tidigare spelsätt och repertoar. Jonas ”Olles Jonke” Olsson i Galven (f. 1886) blev Ulfs största förebild\, som lärde honom sitt sätt att göra det speciella ’dabbelströket’\, en spelteknik som Ulf tidigare hade fått lära sig i en något annorlunda form av Johan Hall från Arbrå. Några år senare kom Ulf också i kontakt med ett par äldre spelmän i Bollnäs som kunde sekundera på det gamla viset\, till och med till gammelpolskor (sextondelspolskor). Idag är Ulf en av landets främsta spelmän\, tilldelad Zornmärket i guld\, och verksam som violinbyggare i Dalarna. \nDetta är i korthet Ulfs bakgrund i spelmansmusiken. Med utgångspunkt i dessa erfarenheter försöker han i kursen vitalisera och levandegöra bland annat de uppteckningar som finns efter Snickar Erik. \nKursen arrangeras av Folkmusikens hus och är ett evenemang i Stämmoveckan.
URL:https://folkmusikenshus.se/event/latkurs-med-ulf-storling/
LOCATION:Hembygdsgårdarna\, Leksand\, Kyrkallén 13\, Leksand\, 793 31\, Sweden
CATEGORIES:Stämmoveckan
ATTACH;FMTTYPE=image/jpeg:https://folkmusikenshus.se/folkmhus/wp-content/uploads/2026/03/ulf.jpg
END:VEVENT
BEGIN:VEVENT
DTSTART;TZID=Europe/Stockholm:20260627T130000
DTEND;TZID=Europe/Stockholm:20260627T153000
DTSTAMP:20260422T153357
CREATED:20260331T231033Z
LAST-MODIFIED:20260324T095900Z
UID:10000134-1782565200-1782574200@folkmusikenshus.se
SUMMARY:Låtkurs med Mattias Helje på Tobaksspinnarstämman
DESCRIPTION:Låtkurs med Mattias Helje\nLördagsorkestern: svängiga och vackra låtar från västra Dalarna.\nSamling 09:00 i Ordenshuset för kursanmälan och registrering. Vi bjuder på morgonfika och bullar! \nMattias Helje\nMattias leder spelkursen på lördag eftermiddag. Repertoaren blir vackra och dansvänliga låtar från Västerdalarna. Vi arbetar med låtarnas karaktär\, stråkmönster och rytmiska finesser. Till kvällen formar vi ett kapell tillsammans med deltagarna från Jonas Åkerlunds kurs\, som spelar till dansen på det legendariska dansgolvet i Ordenshuset. Det går att enbart vara med på Jonas kurs på förmiddagen eller Mattias kurs på eftermiddagen\, men det blir roligast att vara med hela dagen. Då blir också dansspelet bättre! \nBåde Jonas och Mattias är vana pedagoger och undervisar på många olika nivåer samtidigt. De har en nära och personlig relation till musiken härifrån och deltar på många skivutgivningar. De kommer att undervisa utifrån fiolen\, men även andra instrument är välkomna att delta. \nPraktisk information om Tobaksspinnarstämmans kurser\nKursanmälan via förköp är möjligt fram till  fredagen den 26 juni kl. 10.00. I mån av plats kommer det också finnas möjlighet att anmäla sig under stämman men vill du vara säker på att få en plats bör du anmäla dig i förväg.\nMax 40 deltagare på danskurserna och max 30 deltagare på spel- och sång-kurserna. \n \n\nKursen arrangeras av Tobaksspinnarstämman i samarbete med Folkmusikens hus\noch är ett evenemang i Stämmoveckan.
URL:https://folkmusikenshus.se/event/latkurs-med-mattias-helje-pa-tobaksspinnarstamman/
LOCATION:Ordenshuset\, Nås\, Nås 29\, Nås\, 786 93
CATEGORIES:Stämmoveckan
ATTACH;FMTTYPE=image/jpeg:https://folkmusikenshus.se/folkmhus/wp-content/uploads/2026/03/helje.jpg
END:VEVENT
BEGIN:VEVENT
DTSTART;TZID=Europe/Stockholm:20260627T130000
DTEND;TZID=Europe/Stockholm:20260627T153000
DTSTAMP:20260422T153357
CREATED:20260331T231421Z
LAST-MODIFIED:20260324T100554Z
UID:10000136-1782565200-1782574200@folkmusikenshus.se
SUMMARY:Danskurs (fortsättningskurs) med Perjos Lars på Tobaksspinnarstämman
DESCRIPTION:Danskurs med Perjos Lars – Fördjupning.\nDanser längs Västerdalälven: Runddans\, bakmes och tröing. \nRunddans\, bakmes och tröing –  det är de tre grundläggande dansformerna i Västerdalarna. Perjos Lars kommer att lära ut dessa danser och visa hur de passar till de olika låttyper som finns längs dalgången. Men kursen ska bygga på lust\, slår Perjos Lars fast. Det måste vara roligt att dansa!  Kursen kommer därför också att innehålla mer lekfulla och improvisatoriska övningar\, där grundstegen snarare blir ett avstamp än ett slutligt mål. Under förmiddagen går Perjos Lars igenom grunderna i dansen\, för att under eftermiddagen fördjupa kunskaperna. Jonas Åkerlund spelar till dansutlärningen. \nSamling 09:00 i Ordenshuset för kursanmälan och registrering. Vi bjuder på morgonfika och bullar! \nPerjos Lars\nPerjos Lars har spelmansmusiken med sig i blodet från sin morfar\, som var en känd Limaspelman. Lars bor i Lima\, där han under driver ett mindre jordbruk med säterdrift. Han har under årens lopp lett mängder av kurser i dans\, sång och låtspel. \nPraktisk information om Tobaksspinnarstämmans kurser\nKursanmälan via förköp är möjligt fram till  fredagen den 26 juni kl. 10.00. I mån av plats kommer det också finnas möjlighet att anmäla sig under stämman men vill du vara säker på att få en plats bör du anmäla dig i förväg.\nMax 40 deltagare på danskurserna och max 30 deltagare på spel- och sång-kurserna. \n \n  \nKursen arrangeras av Tobaksspinnarstämman i samarbete med Folkmusikens hus\noch är ett evenemang i Stämmoveckan.
URL:https://folkmusikenshus.se/event/danskurs-fortsattningskurs-med-perjos-lars-pa-tobaksspinnarstamman/
LOCATION:Ordenshuset\, Nås\, Nås 29\, Nås\, 786 93
CATEGORIES:Stämmoveckan
ATTACH;FMTTYPE=image/jpeg:https://folkmusikenshus.se/folkmhus/wp-content/uploads/2026/03/perjos_lars.jpg
END:VEVENT
BEGIN:VEVENT
DTSTART;TZID=Europe/Stockholm:20260627T140000
DTEND;TZID=Europe/Stockholm:20260627T150000
DTSTAMP:20260422T153357
CREATED:20260331T230547Z
LAST-MODIFIED:20260401T130619Z
UID:10000152-1782568800-1782572400@folkmusikenshus.se
SUMMARY:Zorns folkmusik - en konsertresa genom Anders Zorns ljudvärld
DESCRIPTION:Följ med på en varm\, levande och eftertänksam stund där konstnären Anders Zorn (Mora\, 1860–1920) åter får röst. Jeanett och Peter Rousu väver ihop anekdoter\, tavlor och händelser ur Zorns liv med de exakta låtarna vi idag\, hundra år efter konstnärens liv – vet att han lyssnade till\, dansade till och själv spelade. Allt för att belysa den musik och dans som alltid omgav honom. Från svängiga polskor till smäktande visor\, fromma koraler och stämningsfull vallmusik — här hör du både folktonens kraft och Zorns bestående avtryck i dagens folkmusikliv. \nMed Jeanett Rousu på fiol\, viola d’amore\, saxofon och spilåpipa samt Peter Rousu på gitarr blir musiken både historiskt förankrad och nära. På konserten medverkar Henrik Eriksson på nyckelharpa och Hugo Rousu på tramporgel. \nEn kväll för dig som älskar konst\, dans och den svenska folkmusikens själ! \nKonserten arrangeras av Folkmusikens hus och är ett evenemang i Stämmoveckan.
URL:https://folkmusikenshus.se/event/zorns-folkmusik-zorns-ljudvarld/
LOCATION:Sveasalen\, Leksand\, Sveagatan 14\, Leksand\, Sweden
CATEGORIES:Stämmoveckan
ATTACH;FMTTYPE=image/jpeg:https://folkmusikenshus.se/folkmhus/wp-content/uploads/2026/04/zorn.jpg
END:VEVENT
BEGIN:VEVENT
DTSTART;TZID=Europe/Stockholm:20260627T160000
DTEND;TZID=Europe/Stockholm:20260627T233000
DTSTAMP:20260422T153357
CREATED:20251122T213320Z
LAST-MODIFIED:20260416T073150Z
UID:10000091-1782576000-1782603000@folkmusikenshus.se
SUMMARY:Leksands spelmansstämma med Riksspelmansstämma
DESCRIPTION:Leksands spelmansstämma är en av Dalarnas mest gemytliga samlingspunkter för folkmusik\, dans och möten mellan människor. Här klingar låtarna lika självklart över gräs och timmer som i händerna på både unga och äldre spelmän. \n2026 är Dalarnas Spelmansförbund och Leksand spelmansstämma värd för Riksspelmansstämman med ett extra omfattande program med utdelning av Zornmärket. \nDagens program ser ut så här: \n10.00-13.00 Kurser\n14.00 Konsert Zorns folkmusik i Sveasalen\n16.00 Invigning och allspel –  Riksspelmansstämma med utdelning av Zornmärken i brons\, silver och guld samt diplom.\n18.00 Invigning och allspel – Leksands spelmansstämma\n18.30 Konsert med Leksands musikverkstad och Hoven Droven\n19.30 Leksands spelmanslag\n20.00 Buskspel och spel till dans \nUnder kvällen fylls området av spontana buskspel\, polskor som tar fart i kvällsljuset och spel till dans i ladan där närheten mellan musiker och dansare skapar en särskild intensitet. \nLeksands spelmansstämma är både ett vardagsrum och en festplats för folkmusiken. Här är du inte bara publik – du är en del av stämman. \nStämman arrangeras av Leksands spelmanslag i samarbete med Folkmusikens hus\noch är ett evenemang i Stämmoveckan.
URL:https://folkmusikenshus.se/event/leksands-spelmansstamma/
LOCATION:Hembygdsgårdarna\, Leksand\, Kyrkallén 13\, Leksand\, 793 31\, Sweden
CATEGORIES:Stämmoveckan
ATTACH;FMTTYPE=image/jpeg:https://folkmusikenshus.se/folkmhus/wp-content/uploads/2025/11/Leksandsspelmansstamma.jpg
END:VEVENT
BEGIN:VEVENT
DTSTART;TZID=Europe/Stockholm:20260627T183000
DTEND;TZID=Europe/Stockholm:20260627T233000
DTSTAMP:20260422T153357
CREATED:20260331T230020Z
LAST-MODIFIED:20260330T185612Z
UID:10000170-1782585000-1782603000@folkmusikenshus.se
SUMMARY:Tobaksspinnarstämman 2026 - lördag
DESCRIPTION:Tobaksspinnarstämman är mötesplatsen för alla vänner av västerdalsmusik och kallas ibland ”Lilla Ransäter”. Gemytligt\, intimt och massor av bra musik och dans! Som vanligt blir det kurser\, konserter\, kolbullar\, danskvällar och visstuga! Det blir också skivsläpp med Anders Rosén och Jonas Åkerlund. Trots den västsvensk profilen kan stämman i år stolt hälsa en storspelman från Småland välkommen som lärare: Pelle Björnlert! Alla de 13 kurserna presenteras var för sig på hemsidan. \nFredag 26/6\n19:00 Spelmanspub på Meas i Nås.\nOrdenshuset öppet för funktionärer och egna aktiviteter\nNär Bistron stänger blir det improviserad midnattspolska i ordenshuset. \nLördag 27/6\n18:30 Välkomstkonsert i Ordenshuset: Låtar och visor från Nås med omnejd. I samband med konserten blir det också skivsläpp då Anders Rosén och Jonas Åkerlund släpper volym 4 av deras Lejsme Per-utgåva. Därefter polskeakut och dans till spellista. \nSöndagen 28/6\n18:30 Stor folkmusikkonsert\, Nås kyrka. Efter konserten bjuds alla in till kyrkkaffe i Ordenshuset.\nDärefter polskeakut och dans till spellista. \n22:00 Sena timmen: Intimkonsert med Anders Rosén och Pelle Björnlert. Biljetterna (endast 30 stycken) släpps i samband med kursregistreringen på lördag morgon. \nMåndag 29/6\n16:00 Konsert i Ordenshuset: William med vänner\n18:00 Allspel med låtar längs Västerdalälven.\n19:00 Dans till spelmanslag\, spellista\, servering\, kolbullar\, buskspel.\n20:00 Visstuga i Nåsgården: Linnea med vänner \nDenna kväll arrangeras av Västerdalslaget \nTobaksspinnarstämman i Nås arrangeras av sammanslutningen Tobaksspinnarstämman och är ett evenemang i Stämmoveckan. \n \n 
URL:https://folkmusikenshus.se/event/tobaksspinnarstamman-2026/
LOCATION:Ordenshuset\, Nås\, Nås 29\, Nås\, 786 93
CATEGORIES:Stämmoveckan
ATTACH;FMTTYPE=image/jpeg:https://folkmusikenshus.se/folkmhus/wp-content/uploads/2026/03/tobaksspinnarstamman.jpg
END:VEVENT
BEGIN:VEVENT
DTSTART;TZID=Europe/Stockholm:20260627T200000
DTEND;TZID=Europe/Stockholm:20260627T235900
DTSTAMP:20260422T153357
CREATED:20260331T230152Z
LAST-MODIFIED:20260401T131006Z
UID:10000176-1782590400-1782604740@folkmusikenshus.se
SUMMARY:Bystugedans i Stumsnäs
DESCRIPTION:Välkomna till Stumsnäs bystuga och dans till inte mindre än två fantastiska spelmansgäng. \n\n\nFörsta halvan av kvällen spelar ett gäng utomordentligt duktiga spelmän och kvinnor som spelar allt från Bingsjö- till Rättvikspolskor: Erik Berg\, Emma Tysk\, Johan Nylander\, Täpp Jenny Nylander\, Täpp Ida Almlöf\, Anders Almlöf\, Hans Täpp och Jenny Berman Högberg. \n\n\nAndra halvan av kvällen spelar några andra erkänt duktiga spelmän med rötterna från Rättvik\, vilket speglar deras låtar som oftast blir Rättvikspolskor: Andreas Bäckström\, Jonny Bäckström\, Stig Ivars\, Lars-Gunnar Björklund\, Benny Bentlöv med flera. \n\n\nKassan öppnar ca 19.30.\nDans mellan 20.00 – 00.00 med en paus på ca 30 minuter.\nEntré 150 kr betalas på plats kontant eller Swish. \n\n\nStumsnäs bystuga ligger mitt emellan östra och västra Stumsnäs. Bystugan var fram till 1956 skolan i byn. Bystugeföreningen som bildades 1987 har nyttjat fastigheten och renoverat den i omgångar till det skick den när idag. På fotbollsplanen på framsidan av huset finns möjlighet att ställa upp husvagn\, husbil eller sätta upp tält. Det finns möjlighet till dusch medan bystugan är öppen.  Toalett finns inne i bystugan under danskvällen.\n\n\n  \nBystugedansen arrangeras av Stumsnäs bystugeförening och är ett evenemang under Stämmoveckan.
URL:https://folkmusikenshus.se/event/bystugedans-i-stumsnas/
LOCATION:Stumsnäs bystuga\, Rättvik\, Stumsnäs Byväg 107\, Vikarbyn\, Dalarna\, 795 95
CATEGORIES:Stämmoveckan
ATTACH;FMTTYPE=image/jpeg:https://folkmusikenshus.se/folkmhus/wp-content/uploads/2026/04/stumsnas.jpg
END:VEVENT
END:VCALENDAR