BEGIN:VCALENDAR
VERSION:2.0
PRODID:-//Folkmusikens hus - ECPv6.15.17.1//NONSGML v1.0//EN
CALSCALE:GREGORIAN
METHOD:PUBLISH
X-ORIGINAL-URL:https://folkmusikenshus.se
X-WR-CALDESC:Händelser för Folkmusikens hus
REFRESH-INTERVAL;VALUE=DURATION:PT1H
X-Robots-Tag:noindex
X-PUBLISHED-TTL:PT1H
BEGIN:VTIMEZONE
TZID:Europe/Stockholm
BEGIN:DAYLIGHT
TZOFFSETFROM:+0100
TZOFFSETTO:+0200
TZNAME:CEST
DTSTART:20250330T010000
END:DAYLIGHT
BEGIN:STANDARD
TZOFFSETFROM:+0200
TZOFFSETTO:+0100
TZNAME:CET
DTSTART:20251026T010000
END:STANDARD
BEGIN:DAYLIGHT
TZOFFSETFROM:+0100
TZOFFSETTO:+0200
TZNAME:CEST
DTSTART:20260329T010000
END:DAYLIGHT
BEGIN:STANDARD
TZOFFSETFROM:+0200
TZOFFSETTO:+0100
TZNAME:CET
DTSTART:20261025T010000
END:STANDARD
BEGIN:DAYLIGHT
TZOFFSETFROM:+0100
TZOFFSETTO:+0200
TZNAME:CEST
DTSTART:20270328T010000
END:DAYLIGHT
BEGIN:STANDARD
TZOFFSETFROM:+0200
TZOFFSETTO:+0100
TZNAME:CET
DTSTART:20271031T010000
END:STANDARD
END:VTIMEZONE
BEGIN:VEVENT
DTSTART;TZID=Europe/Stockholm:20260426T160000
DTEND;TZID=Europe/Stockholm:20260426T171000
DTSTAMP:20260422T130857
CREATED:20260317T111526Z
LAST-MODIFIED:20260317T111526Z
UID:10000130-1777219200-1777223400@folkmusikenshus.se
SUMMARY:Tre Knas Mä Bas
DESCRIPTION:Välkommen till en härlig konsert med profiler från Iggesundsgänget! \nJanne Krantz på gitarr\, fiol sång och skrönor av alla slag. Anders Larm på bas\, gitarr\, klaviatur\, sång och mm. Med sig har de också Niklas Sundén på dragspel\, en musiker som har turnerat med Richar Wolf 20 år och Povel Ramel mfl. Robert Damberg på gitarr\, fiol\, mandolin\, banjo och sång har spelat med Janne i 10 år startade gruppen Hälsingefyr och kan allt av Iggesundsgänget. \nKöp biljett \nArrangeras av Dans och Folkton i samarbete med Folkmusiken hus och studieförbundet Bilda.
URL:https://folkmusikenshus.se/event/tre-knas-ma-bas/
LOCATION:Smedjebackens Folkets hus\, Vasagatan 11\, Smedjebacken\, Sweden
CATEGORIES:Konsert
ATTACH;FMTTYPE=image/webp:https://folkmusikenshus.se/folkmhus/wp-content/uploads/2026/03/default.jpg-9.webp
END:VEVENT
END:VCALENDAR