BEGIN:VCALENDAR
VERSION:2.0
PRODID:-//Folkmusikens hus - ECPv6.15.17.1//NONSGML v1.0//EN
CALSCALE:GREGORIAN
METHOD:PUBLISH
X-WR-CALNAME:Folkmusikens hus
X-ORIGINAL-URL:https://folkmusikenshus.se
X-WR-CALDESC:Händelser för Folkmusikens hus
REFRESH-INTERVAL;VALUE=DURATION:PT1H
X-Robots-Tag:noindex
X-PUBLISHED-TTL:PT1H
BEGIN:VTIMEZONE
TZID:Europe/Stockholm
BEGIN:DAYLIGHT
TZOFFSETFROM:+0100
TZOFFSETTO:+0200
TZNAME:CEST
DTSTART:20250330T010000
END:DAYLIGHT
BEGIN:STANDARD
TZOFFSETFROM:+0200
TZOFFSETTO:+0100
TZNAME:CET
DTSTART:20251026T010000
END:STANDARD
BEGIN:DAYLIGHT
TZOFFSETFROM:+0100
TZOFFSETTO:+0200
TZNAME:CEST
DTSTART:20260329T010000
END:DAYLIGHT
BEGIN:STANDARD
TZOFFSETFROM:+0200
TZOFFSETTO:+0100
TZNAME:CET
DTSTART:20261025T010000
END:STANDARD
BEGIN:DAYLIGHT
TZOFFSETFROM:+0100
TZOFFSETTO:+0200
TZNAME:CEST
DTSTART:20270328T010000
END:DAYLIGHT
BEGIN:STANDARD
TZOFFSETFROM:+0200
TZOFFSETTO:+0100
TZNAME:CET
DTSTART:20271031T010000
END:STANDARD
END:VTIMEZONE
BEGIN:VEVENT
DTSTART;TZID=Europe/Stockholm:20260418T100000
DTEND;TZID=Europe/Stockholm:20260419T130000
DTSTAMP:20260422T130511
CREATED:20260306T150602Z
LAST-MODIFIED:20260401T115631Z
UID:10000125-1776506400-1776603600@folkmusikenshus.se
SUMMARY:Spela till dans – Dansa till spel
DESCRIPTION:Spelar du ofta till dans eller vill börja med det? Är du dansledare eller vill bli? Då är detta en kurs du inte får missa! \nKursen ”Spela till dans – Dansa till spel” är en kombinerad utbildning för dansledare och för spelmän som spelar till dans. Målgrupp för kursen är spelmän som behärskar ett instrument och brukar spelar till dans eller vill börja spela till dans samt dansare som har goda kunskaper i gammeldans och redan är eller som vill bli ledare i folkdans. \nKursavgift: \n1800 kr för medlemmar i Folkdansringen över 25 år \n1450 kr medlemmar i Folkdansringen t o m 25 år \n2900 kr för den som inte ännu är medlem i Folkdansringen \n(inkl. fika\, lunch och middag på lördagen samt fika på söndagen) \nBoende på Best Western Hotell Lerdalshöjden bokas vid anmälan till kursen. (Möjlighet finns att boka från fredag kväll.) \nSista dag för anmälan är 25 mars\, bokas via dans.se. Kursen har begränsat antal platser och det är först till kvarn som gäller. \nKursansvarig: Cecilia Lindqvist\, tel 070-130 55 16\, cecilia.lindqvist@folkdansringen.se \nInstruktörer: Ove Rung\, Annika Emanuelsson\, Marie Lindström och Cecilia Lindqvist. Ove är fiolspelman och pedagog och har spelat till folkdanslag och lett spelmanslag i många år. Annika\, Marie och Cecilia är dansledare sedan många år. Annika är även folkdanspedagog och Cecilia är även fiolspelman. \nArrangeras av Svenska Folkdansringens dans-och musiksektion i samarbete med Folkmusiken hus och studieförbundet Bilda.
URL:https://folkmusikenshus.se/event/spela-till-dans-dansa-till-spel/
LOCATION:Folkmusikens hus\, Rättvik\, Dalagatan 7\, Rättvik\, Sweden
CATEGORIES:Kurs
ATTACH;FMTTYPE=image/jpeg:https://folkmusikenshus.se/folkmhus/wp-content/uploads/2026/03/spela-till-dans-hela-ytan-bild-till-Bilda-svenska-folkdansringen-ver-2-1280x720-1.jpg
END:VEVENT
BEGIN:VEVENT
DTSTART;TZID=Europe/Stockholm:20260419T150000
DTEND;TZID=Europe/Stockholm:20260419T200000
DTSTAMP:20260422T130511
CREATED:20251219T120120Z
LAST-MODIFIED:20260416T061002Z
UID:10000109-1776610800-1776628800@folkmusikenshus.se
SUMMARY:Berättarkonsert och danskväll på Folkmusikens hus
DESCRIPTION:Välkommen till en inspirerande dag fylld av musik\, berättelser och dans! \nVi bjuder in till en härlig eftermiddag och kväll med årsmöte\, fika\, berättarkonsert och dans. Du är varmt välkommen att delta hela dagen – eller komma och gå som det passar dig. \nÅrsmöte kl. 15.00Dagen inleds med årsmöte där alla medlemmar är hjärtligt välkomna. Det är alltid roligt och värdefullt när många deltar och bidrar till föreningens framtid. \nFika Mellan årsmöte och konsert finns det tid för lite fika och mingel. Fikat står även kvar efter konserten. \nBerättarkonsert med Jakob Ainegren kl. 16:30”Om fiolbygge och gamla spelmansfioler” med Jakob Ainegren – fiolbyggare\, spelman och berättare. \nJakob tar oss med in i fiolbyggandets fascinerande värld och berättar om historiska instrument\, mytomspunna spelmän och fiolernas egen själ och historia. Självklart varvas berättelserna med musik – Jakob spelar några låtar för oss. En av fiolerna han byggt är inspirerad av ett original som hänger i instrumentkammaren på Folkmusikens hus. \nJakob Ainegren bor i Rättvik och växte upp i Ransby i norra Värmland\, där fiolmusiken och de magiska berättelserna om gamla spelmän tidigt blev en del av hans liv. Efter en treårig lärlingsutbildning i den klassiska violinbyggartraditionen\, samt praktik och yrkesverksamhet\, tinnehar Jakob sedan 2020 gesällbrev i violinbyggaryrket. Idag arbetar han i Rättvik och Falun med både reparationer\, justeringar och eget fiolbyggande. Han spelar gärna till både konsert och dans – särskilt låtar från norra Värmland. \nDans kl. 18:00-20:00Efter berättarkonserten fortsätter kvällen med dans till musik av Jakob samt andra spelmän och Mora Spelmanslag. En festlig avslutning du inte vill missa! \nSpel till dans: \n18:00 Jakob Ainegren \n18:30 Anna Wikenius \n18:50 Mora Spelmanslag \n19:40 Jon Holmén \nFri entré för medlemmar i Folkmusikens hus. Övriga betalar 150 kr på plats. Gratis medlemskap för alla upp till 26 år. \nBli medlem  \nArrangeras av Folkmusikens hus i samarbete med Studieförbundet Bilda.
URL:https://folkmusikenshus.se/event/medlemstraff-pa-folkmusikens-hus/
LOCATION:Folkmusikens hus\, Rättvik\, Dalagatan 7\, Rättvik\, Sweden
CATEGORIES:Dans,Konsert
ATTACH;FMTTYPE=image/jpeg:https://folkmusikenshus.se/folkmhus/wp-content/uploads/2025/12/1000005366-scaled-e1766144611203.jpg
END:VEVENT
END:VCALENDAR