BEGIN:VCALENDAR
VERSION:2.0
PRODID:-//Folkmusikens hus - ECPv6.15.20//NONSGML v1.0//EN
CALSCALE:GREGORIAN
METHOD:PUBLISH
X-ORIGINAL-URL:https://folkmusikenshus.se
X-WR-CALDESC:Händelser för Folkmusikens hus
REFRESH-INTERVAL;VALUE=DURATION:PT1H
X-Robots-Tag:noindex
X-PUBLISHED-TTL:PT1H
BEGIN:VTIMEZONE
TZID:Europe/Stockholm
BEGIN:DAYLIGHT
TZOFFSETFROM:+0100
TZOFFSETTO:+0200
TZNAME:CEST
DTSTART:20250330T010000
END:DAYLIGHT
BEGIN:STANDARD
TZOFFSETFROM:+0200
TZOFFSETTO:+0100
TZNAME:CET
DTSTART:20251026T010000
END:STANDARD
BEGIN:DAYLIGHT
TZOFFSETFROM:+0100
TZOFFSETTO:+0200
TZNAME:CEST
DTSTART:20260329T010000
END:DAYLIGHT
BEGIN:STANDARD
TZOFFSETFROM:+0200
TZOFFSETTO:+0100
TZNAME:CET
DTSTART:20261025T010000
END:STANDARD
BEGIN:DAYLIGHT
TZOFFSETFROM:+0100
TZOFFSETTO:+0200
TZNAME:CEST
DTSTART:20270328T010000
END:DAYLIGHT
BEGIN:STANDARD
TZOFFSETFROM:+0200
TZOFFSETTO:+0100
TZNAME:CET
DTSTART:20271031T010000
END:STANDARD
END:VTIMEZONE
BEGIN:VEVENT
DTSTART;TZID=Europe/Stockholm:20260415T180000
DTEND;TZID=Europe/Stockholm:20260415T192000
DTSTAMP:20260423T130107
CREATED:20260317T110554Z
LAST-MODIFIED:20260317T111807Z
UID:10000128-1776276000-1776280800@folkmusikenshus.se
SUMMARY:Fimbul - Skurups folkhögskola på turné
DESCRIPTION:En svensk\, två danskor och en belgare som studerar nordisk folkmusik vid Skurups Folkhögskola i södra Skåne ger sig ut på turné. Ensemblen består av gitarr\, sång/fiol\, kontrabas samt fiol/bouzouki. Kom och gläds åt nya stjärnor! \nOnsdag 15/4 kl. 18.00 Ludvika Folkets Hus\nTorsdag 16/4 kl. 18.00 Allékyrkan Smedjebacken \nKonserten är gratis. Det blir en kort paus med servering. Endast bokningsavgiften tillkommer. \nBoka här \nArrangeras av Dans och Folkton i samarbete med Omsorgsfritiden Ludvika kommun\, Allékyrkan Smedjebacken\, Folkmusikens hus och studieförbundet Bilda.
URL:https://folkmusikenshus.se/event/fimbul-skurups-folkhogskola-pa-turne/
LOCATION:Folkets hus\, Ludvika\, Carlavägen 24\, Ludvika\, 77130
CATEGORIES:Konsert
ATTACH;FMTTYPE=image/webp:https://folkmusikenshus.se/folkmhus/wp-content/uploads/2026/03/default.jpg-10.webp
END:VEVENT
END:VCALENDAR